BEGIN:VCALENDAR
VERSION:2.0
PRODID:-//youpod//EN
BEGIN:VEVENT
UID:69ecd2317041c@youpod
DTSTAMP:20260425T143945Z
DTSTART:20260425T180000
DTEND:20260425T190000
SUMMARY:Vampire Live im Spilles
DESCRIPTION:Das Spilles öffnet dir die Tür zu einer düsteren und romantisch-gruseligen Welt! Mach mit und werde Teil von unserer Vampire-Live Gruppe! Beim Live-Rollenspiel erleben wir gemeinsam spannende Intrigen\, magische Rätsel und so manchen gruseligen Moment. Du selbst schlüpfst in die Rolle eines unsterblichen Vampirs und musst dein Unleben bestreiten. Ein großer Spaß? Weit gefehlt! Denn Intriganten deiner Art\, der mörderische Hunger und auch die Angst um das\, was von deiner Seele noch menschlich ist\, machen dir das Unleben schwer… Ein Spiel um Macht\, Verführung und die eigene Menschlichkeit beginnt! Zusammen mit einer netten Orga hast du hier besonders als Neuling die Möglichkeit\, ein ganz besonderes Hobby und eine neue Seite an dir zu entdecken! Weitere Infos: https://vampire-ddorf.xobor.de  Link zur Veranstaltung: https://youpod.de/youevent/vampire-live-im-spilles/
LOCATION:Selbstverwaltetes Jugend- und Kulturzentrum Haus Spilles \, Benrather Schloßallee 93 \, 40597 Düsseldorf
END:VEVENT
END:VCALENDAR
