BEGIN:VCALENDAR
VERSION:2.0
PRODID:-//youpod//EN
BEGIN:VEVENT
UID:69e7745497175@youpod
DTSTAMP:20260421T125756Z
DTSTART:20251223T150000
DTEND:20251223T160000
SUMMARY:Offene Fahrradwerkstatt in Bilk
DESCRIPTION:Wer Probleme mit seinem Fahrrad hat\, kann jeden Dienstag zwischen 15 und 17 Uhr im Foyer des Bürgerhauses vorbeischauen.  In der offenen Fahrradwerkstatt gibt es eine praktische Reparaturhilfe sowie Tipps zur Pflege und Instandsetzung des Fahrrads – auf Spendenbasis.  Link zur Veranstaltung: https://youpod.de/youevent/offene-fahrradwerkstatt-im-buergerhaus/
LOCATION:Himmelgeister Straße 107H \, 40225 Düsseldorf
END:VEVENT
BEGIN:VEVENT
UID:69e7745497182@youpod
DTSTAMP:20260421T125756Z
DTSTART:20251230T150000
DTEND:20251230T160000
SUMMARY:Offene Fahrradwerkstatt in Bilk
DESCRIPTION:Wer Probleme mit seinem Fahrrad hat\, kann jeden Dienstag zwischen 15 und 17 Uhr im Foyer des Bürgerhauses vorbeischauen.  In der offenen Fahrradwerkstatt gibt es eine praktische Reparaturhilfe sowie Tipps zur Pflege und Instandsetzung des Fahrrads – auf Spendenbasis.  Link zur Veranstaltung: https://youpod.de/youevent/offene-fahrradwerkstatt-im-buergerhaus/
LOCATION:Himmelgeister Straße 107H \, 40225 Düsseldorf
END:VEVENT
BEGIN:VEVENT
UID:69e7745497189@youpod
DTSTAMP:20260421T125756Z
DTSTART:20260106T150000
DTEND:20260106T160000
SUMMARY:Offene Fahrradwerkstatt in Bilk
DESCRIPTION:Wer Probleme mit seinem Fahrrad hat\, kann jeden Dienstag zwischen 15 und 17 Uhr im Foyer des Bürgerhauses vorbeischauen.  In der offenen Fahrradwerkstatt gibt es eine praktische Reparaturhilfe sowie Tipps zur Pflege und Instandsetzung des Fahrrads – auf Spendenbasis.  Link zur Veranstaltung: https://youpod.de/youevent/offene-fahrradwerkstatt-im-buergerhaus/
LOCATION:Himmelgeister Straße 107H \, 40225 Düsseldorf
END:VEVENT
BEGIN:VEVENT
UID:69e774549718f@youpod
DTSTAMP:20260421T125756Z
DTSTART:20260113T150000
DTEND:20260113T160000
SUMMARY:Offene Fahrradwerkstatt in Bilk
DESCRIPTION:Wer Probleme mit seinem Fahrrad hat\, kann jeden Dienstag zwischen 15 und 17 Uhr im Foyer des Bürgerhauses vorbeischauen.  In der offenen Fahrradwerkstatt gibt es eine praktische Reparaturhilfe sowie Tipps zur Pflege und Instandsetzung des Fahrrads – auf Spendenbasis.  Link zur Veranstaltung: https://youpod.de/youevent/offene-fahrradwerkstatt-im-buergerhaus/
LOCATION:Himmelgeister Straße 107H \, 40225 Düsseldorf
END:VEVENT
BEGIN:VEVENT
UID:69e7745497194@youpod
DTSTAMP:20260421T125756Z
DTSTART:20260120T150000
DTEND:20260120T160000
SUMMARY:Offene Fahrradwerkstatt in Bilk
DESCRIPTION:Wer Probleme mit seinem Fahrrad hat\, kann jeden Dienstag zwischen 15 und 17 Uhr im Foyer des Bürgerhauses vorbeischauen.  In der offenen Fahrradwerkstatt gibt es eine praktische Reparaturhilfe sowie Tipps zur Pflege und Instandsetzung des Fahrrads – auf Spendenbasis.  Link zur Veranstaltung: https://youpod.de/youevent/offene-fahrradwerkstatt-im-buergerhaus/
LOCATION:Himmelgeister Straße 107H \, 40225 Düsseldorf
END:VEVENT
BEGIN:VEVENT
UID:69e774549719a@youpod
DTSTAMP:20260421T125756Z
DTSTART:20260127T150000
DTEND:20260127T160000
SUMMARY:Offene Fahrradwerkstatt in Bilk
DESCRIPTION:Wer Probleme mit seinem Fahrrad hat\, kann jeden Dienstag zwischen 15 und 17 Uhr im Foyer des Bürgerhauses vorbeischauen.  In der offenen Fahrradwerkstatt gibt es eine praktische Reparaturhilfe sowie Tipps zur Pflege und Instandsetzung des Fahrrads – auf Spendenbasis.  Link zur Veranstaltung: https://youpod.de/youevent/offene-fahrradwerkstatt-im-buergerhaus/
LOCATION:Himmelgeister Straße 107H \, 40225 Düsseldorf
END:VEVENT
BEGIN:VEVENT
UID:69e77454971a0@youpod
DTSTAMP:20260421T125756Z
DTSTART:20260203T150000
DTEND:20260203T160000
SUMMARY:Offene Fahrradwerkstatt in Bilk
DESCRIPTION:Wer Probleme mit seinem Fahrrad hat\, kann jeden Dienstag zwischen 15 und 17 Uhr im Foyer des Bürgerhauses vorbeischauen.  In der offenen Fahrradwerkstatt gibt es eine praktische Reparaturhilfe sowie Tipps zur Pflege und Instandsetzung des Fahrrads – auf Spendenbasis.  Link zur Veranstaltung: https://youpod.de/youevent/offene-fahrradwerkstatt-im-buergerhaus/
LOCATION:Himmelgeister Straße 107H \, 40225 Düsseldorf
END:VEVENT
BEGIN:VEVENT
UID:69e77454971a5@youpod
DTSTAMP:20260421T125756Z
DTSTART:20260210T150000
DTEND:20260210T160000
SUMMARY:Offene Fahrradwerkstatt in Bilk
DESCRIPTION:Wer Probleme mit seinem Fahrrad hat\, kann jeden Dienstag zwischen 15 und 17 Uhr im Foyer des Bürgerhauses vorbeischauen.  In der offenen Fahrradwerkstatt gibt es eine praktische Reparaturhilfe sowie Tipps zur Pflege und Instandsetzung des Fahrrads – auf Spendenbasis.  Link zur Veranstaltung: https://youpod.de/youevent/offene-fahrradwerkstatt-im-buergerhaus/
LOCATION:Himmelgeister Straße 107H \, 40225 Düsseldorf
END:VEVENT
BEGIN:VEVENT
UID:69e77454971aa@youpod
DTSTAMP:20260421T125756Z
DTSTART:20260217T150000
DTEND:20260217T160000
SUMMARY:Offene Fahrradwerkstatt in Bilk
DESCRIPTION:Wer Probleme mit seinem Fahrrad hat\, kann jeden Dienstag zwischen 15 und 17 Uhr im Foyer des Bürgerhauses vorbeischauen.  In der offenen Fahrradwerkstatt gibt es eine praktische Reparaturhilfe sowie Tipps zur Pflege und Instandsetzung des Fahrrads – auf Spendenbasis.  Link zur Veranstaltung: https://youpod.de/youevent/offene-fahrradwerkstatt-im-buergerhaus/
LOCATION:Himmelgeister Straße 107H \, 40225 Düsseldorf
END:VEVENT
BEGIN:VEVENT
UID:69e77454971af@youpod
DTSTAMP:20260421T125756Z
DTSTART:20260224T150000
DTEND:20260224T160000
SUMMARY:Offene Fahrradwerkstatt in Bilk
DESCRIPTION:Wer Probleme mit seinem Fahrrad hat\, kann jeden Dienstag zwischen 15 und 17 Uhr im Foyer des Bürgerhauses vorbeischauen.  In der offenen Fahrradwerkstatt gibt es eine praktische Reparaturhilfe sowie Tipps zur Pflege und Instandsetzung des Fahrrads – auf Spendenbasis.  Link zur Veranstaltung: https://youpod.de/youevent/offene-fahrradwerkstatt-im-buergerhaus/
LOCATION:Himmelgeister Straße 107H \, 40225 Düsseldorf
END:VEVENT
BEGIN:VEVENT
UID:69e77454971b5@youpod
DTSTAMP:20260421T125756Z
DTSTART:20260303T150000
DTEND:20260303T160000
SUMMARY:Offene Fahrradwerkstatt in Bilk
DESCRIPTION:Wer Probleme mit seinem Fahrrad hat\, kann jeden Dienstag zwischen 15 und 17 Uhr im Foyer des Bürgerhauses vorbeischauen.  In der offenen Fahrradwerkstatt gibt es eine praktische Reparaturhilfe sowie Tipps zur Pflege und Instandsetzung des Fahrrads – auf Spendenbasis.  Link zur Veranstaltung: https://youpod.de/youevent/offene-fahrradwerkstatt-im-buergerhaus/
LOCATION:Himmelgeister Straße 107H \, 40225 Düsseldorf
END:VEVENT
BEGIN:VEVENT
UID:69e77454971ba@youpod
DTSTAMP:20260421T125756Z
DTSTART:20260310T150000
DTEND:20260310T160000
SUMMARY:Offene Fahrradwerkstatt in Bilk
DESCRIPTION:Wer Probleme mit seinem Fahrrad hat\, kann jeden Dienstag zwischen 15 und 17 Uhr im Foyer des Bürgerhauses vorbeischauen.  In der offenen Fahrradwerkstatt gibt es eine praktische Reparaturhilfe sowie Tipps zur Pflege und Instandsetzung des Fahrrads – auf Spendenbasis.  Link zur Veranstaltung: https://youpod.de/youevent/offene-fahrradwerkstatt-im-buergerhaus/
LOCATION:Himmelgeister Straße 107H \, 40225 Düsseldorf
END:VEVENT
BEGIN:VEVENT
UID:69e77454971bf@youpod
DTSTAMP:20260421T125756Z
DTSTART:20260317T150000
DTEND:20260317T160000
SUMMARY:Offene Fahrradwerkstatt in Bilk
DESCRIPTION:Wer Probleme mit seinem Fahrrad hat\, kann jeden Dienstag zwischen 15 und 17 Uhr im Foyer des Bürgerhauses vorbeischauen.  In der offenen Fahrradwerkstatt gibt es eine praktische Reparaturhilfe sowie Tipps zur Pflege und Instandsetzung des Fahrrads – auf Spendenbasis.  Link zur Veranstaltung: https://youpod.de/youevent/offene-fahrradwerkstatt-im-buergerhaus/
LOCATION:Himmelgeister Straße 107H \, 40225 Düsseldorf
END:VEVENT
BEGIN:VEVENT
UID:69e77454971c3@youpod
DTSTAMP:20260421T125756Z
DTSTART:20260324T150000
DTEND:20260324T160000
SUMMARY:Offene Fahrradwerkstatt in Bilk
DESCRIPTION:Wer Probleme mit seinem Fahrrad hat\, kann jeden Dienstag zwischen 15 und 17 Uhr im Foyer des Bürgerhauses vorbeischauen.  In der offenen Fahrradwerkstatt gibt es eine praktische Reparaturhilfe sowie Tipps zur Pflege und Instandsetzung des Fahrrads – auf Spendenbasis.  Link zur Veranstaltung: https://youpod.de/youevent/offene-fahrradwerkstatt-im-buergerhaus/
LOCATION:Himmelgeister Straße 107H \, 40225 Düsseldorf
END:VEVENT
BEGIN:VEVENT
UID:69e77454971c9@youpod
DTSTAMP:20260421T125756Z
DTSTART:20260331T150000
DTEND:20260331T160000
SUMMARY:Offene Fahrradwerkstatt in Bilk
DESCRIPTION:Wer Probleme mit seinem Fahrrad hat\, kann jeden Dienstag zwischen 15 und 17 Uhr im Foyer des Bürgerhauses vorbeischauen.  In der offenen Fahrradwerkstatt gibt es eine praktische Reparaturhilfe sowie Tipps zur Pflege und Instandsetzung des Fahrrads – auf Spendenbasis.  Link zur Veranstaltung: https://youpod.de/youevent/offene-fahrradwerkstatt-im-buergerhaus/
LOCATION:Himmelgeister Straße 107H \, 40225 Düsseldorf
END:VEVENT
BEGIN:VEVENT
UID:69e77454971ce@youpod
DTSTAMP:20260421T125756Z
DTSTART:20260407T150000
DTEND:20260407T160000
SUMMARY:Offene Fahrradwerkstatt in Bilk
DESCRIPTION:Wer Probleme mit seinem Fahrrad hat\, kann jeden Dienstag zwischen 15 und 17 Uhr im Foyer des Bürgerhauses vorbeischauen.  In der offenen Fahrradwerkstatt gibt es eine praktische Reparaturhilfe sowie Tipps zur Pflege und Instandsetzung des Fahrrads – auf Spendenbasis.  Link zur Veranstaltung: https://youpod.de/youevent/offene-fahrradwerkstatt-im-buergerhaus/
LOCATION:Himmelgeister Straße 107H \, 40225 Düsseldorf
END:VEVENT
BEGIN:VEVENT
UID:69e77454971d3@youpod
DTSTAMP:20260421T125756Z
DTSTART:20260414T150000
DTEND:20260414T160000
SUMMARY:Offene Fahrradwerkstatt in Bilk
DESCRIPTION:Wer Probleme mit seinem Fahrrad hat\, kann jeden Dienstag zwischen 15 und 17 Uhr im Foyer des Bürgerhauses vorbeischauen.  In der offenen Fahrradwerkstatt gibt es eine praktische Reparaturhilfe sowie Tipps zur Pflege und Instandsetzung des Fahrrads – auf Spendenbasis.  Link zur Veranstaltung: https://youpod.de/youevent/offene-fahrradwerkstatt-im-buergerhaus/
LOCATION:Himmelgeister Straße 107H \, 40225 Düsseldorf
END:VEVENT
BEGIN:VEVENT
UID:69e77454971d8@youpod
DTSTAMP:20260421T125756Z
DTSTART:20260421T150000
DTEND:20260421T160000
SUMMARY:Offene Fahrradwerkstatt in Bilk
DESCRIPTION:Wer Probleme mit seinem Fahrrad hat\, kann jeden Dienstag zwischen 15 und 17 Uhr im Foyer des Bürgerhauses vorbeischauen.  In der offenen Fahrradwerkstatt gibt es eine praktische Reparaturhilfe sowie Tipps zur Pflege und Instandsetzung des Fahrrads – auf Spendenbasis.  Link zur Veranstaltung: https://youpod.de/youevent/offene-fahrradwerkstatt-im-buergerhaus/
LOCATION:Himmelgeister Straße 107H \, 40225 Düsseldorf
END:VEVENT
BEGIN:VEVENT
UID:69e77454971dd@youpod
DTSTAMP:20260421T125756Z
DTSTART:20260428T150000
DTEND:20260428T160000
SUMMARY:Offene Fahrradwerkstatt in Bilk
DESCRIPTION:Wer Probleme mit seinem Fahrrad hat\, kann jeden Dienstag zwischen 15 und 17 Uhr im Foyer des Bürgerhauses vorbeischauen.  In der offenen Fahrradwerkstatt gibt es eine praktische Reparaturhilfe sowie Tipps zur Pflege und Instandsetzung des Fahrrads – auf Spendenbasis.  Link zur Veranstaltung: https://youpod.de/youevent/offene-fahrradwerkstatt-im-buergerhaus/
LOCATION:Himmelgeister Straße 107H \, 40225 Düsseldorf
END:VEVENT
END:VCALENDAR
