BEGIN:VCALENDAR
VERSION:2.0
PRODID:-//youpod//EN
BEGIN:VEVENT
UID:69e7381283160@youpod
DTSTAMP:20260421T084050Z
DTSTART:20250327T180000
DTEND:20250327T190000
SUMMARY:Laufen unter Flutlicht in Düsseltal
DESCRIPTION:Damit euch das Joggen auch in der dunklen Jahreszeit Spaß macht\, lädt euch das Sportamt zu &#8220\;Laufen unter Flutlicht&#8221\; ein. Vom 3. November bis zum 27. März wird dafür auf fünf städtischen Sportanlagen abends die Beleuchtung eingeschaltet:  Arena Sportpark: dienstags und donnerstags von 18 bis 20 Uhr Bezirkssportanlage Lierenfeld: dienstags und donnerstags von 18 bis 20 Uhr Sportpark Niederheid: montags und mittwochs von 18 bis 20 Uhr Bezirkssportanlage Düsseltal: montags und donnerstags von 18 bis 20 Uhr Rather Waldstadion: mittwochs und freitags von 18 bis 20 Uhr  Die Teilnahme ist kostenlos\, eine Anmeldung nicht erforderlich. Weitere Infos\, Lauftipps und Nutzungshinweise unter www.duesseldorf.de/laufen-unter-flutlicht.  Link zur Veranstaltung: https://youpod.de/youevent/laufen-unter-flutlicht-in-duesseltal/
LOCATION:Windscheidstraße 1840239  Düsseldorf
END:VEVENT
BEGIN:VEVENT
UID:69e738128316d@youpod
DTSTAMP:20260421T084050Z
DTSTART:20251103T180000
DTEND:20251103T190000
SUMMARY:Laufen unter Flutlicht in Düsseltal
DESCRIPTION:Damit euch das Joggen auch in der dunklen Jahreszeit Spaß macht\, lädt euch das Sportamt zu &#8220\;Laufen unter Flutlicht&#8221\; ein. Vom 3. November bis zum 27. März wird dafür auf fünf städtischen Sportanlagen abends die Beleuchtung eingeschaltet:  Arena Sportpark: dienstags und donnerstags von 18 bis 20 Uhr Bezirkssportanlage Lierenfeld: dienstags und donnerstags von 18 bis 20 Uhr Sportpark Niederheid: montags und mittwochs von 18 bis 20 Uhr Bezirkssportanlage Düsseltal: montags und donnerstags von 18 bis 20 Uhr Rather Waldstadion: mittwochs und freitags von 18 bis 20 Uhr  Die Teilnahme ist kostenlos\, eine Anmeldung nicht erforderlich. Weitere Infos\, Lauftipps und Nutzungshinweise unter www.duesseldorf.de/laufen-unter-flutlicht.  Link zur Veranstaltung: https://youpod.de/youevent/laufen-unter-flutlicht-in-duesseltal/
LOCATION:Windscheidstraße 1840239  Düsseldorf
END:VEVENT
BEGIN:VEVENT
UID:69e7381283175@youpod
DTSTAMP:20260421T084050Z
DTSTART:20251106T180000
DTEND:20251106T190000
SUMMARY:Laufen unter Flutlicht in Düsseltal
DESCRIPTION:Damit euch das Joggen auch in der dunklen Jahreszeit Spaß macht\, lädt euch das Sportamt zu &#8220\;Laufen unter Flutlicht&#8221\; ein. Vom 3. November bis zum 27. März wird dafür auf fünf städtischen Sportanlagen abends die Beleuchtung eingeschaltet:  Arena Sportpark: dienstags und donnerstags von 18 bis 20 Uhr Bezirkssportanlage Lierenfeld: dienstags und donnerstags von 18 bis 20 Uhr Sportpark Niederheid: montags und mittwochs von 18 bis 20 Uhr Bezirkssportanlage Düsseltal: montags und donnerstags von 18 bis 20 Uhr Rather Waldstadion: mittwochs und freitags von 18 bis 20 Uhr  Die Teilnahme ist kostenlos\, eine Anmeldung nicht erforderlich. Weitere Infos\, Lauftipps und Nutzungshinweise unter www.duesseldorf.de/laufen-unter-flutlicht.  Link zur Veranstaltung: https://youpod.de/youevent/laufen-unter-flutlicht-in-duesseltal/
LOCATION:Windscheidstraße 1840239  Düsseldorf
END:VEVENT
BEGIN:VEVENT
UID:69e738128317c@youpod
DTSTAMP:20260421T084050Z
DTSTART:20251110T180000
DTEND:20251110T190000
SUMMARY:Laufen unter Flutlicht in Düsseltal
DESCRIPTION:Damit euch das Joggen auch in der dunklen Jahreszeit Spaß macht\, lädt euch das Sportamt zu &#8220\;Laufen unter Flutlicht&#8221\; ein. Vom 3. November bis zum 27. März wird dafür auf fünf städtischen Sportanlagen abends die Beleuchtung eingeschaltet:  Arena Sportpark: dienstags und donnerstags von 18 bis 20 Uhr Bezirkssportanlage Lierenfeld: dienstags und donnerstags von 18 bis 20 Uhr Sportpark Niederheid: montags und mittwochs von 18 bis 20 Uhr Bezirkssportanlage Düsseltal: montags und donnerstags von 18 bis 20 Uhr Rather Waldstadion: mittwochs und freitags von 18 bis 20 Uhr  Die Teilnahme ist kostenlos\, eine Anmeldung nicht erforderlich. Weitere Infos\, Lauftipps und Nutzungshinweise unter www.duesseldorf.de/laufen-unter-flutlicht.  Link zur Veranstaltung: https://youpod.de/youevent/laufen-unter-flutlicht-in-duesseltal/
LOCATION:Windscheidstraße 1840239  Düsseldorf
END:VEVENT
BEGIN:VEVENT
UID:69e7381283183@youpod
DTSTAMP:20260421T084050Z
DTSTART:20251113T180000
DTEND:20251113T190000
SUMMARY:Laufen unter Flutlicht in Düsseltal
DESCRIPTION:Damit euch das Joggen auch in der dunklen Jahreszeit Spaß macht\, lädt euch das Sportamt zu &#8220\;Laufen unter Flutlicht&#8221\; ein. Vom 3. November bis zum 27. März wird dafür auf fünf städtischen Sportanlagen abends die Beleuchtung eingeschaltet:  Arena Sportpark: dienstags und donnerstags von 18 bis 20 Uhr Bezirkssportanlage Lierenfeld: dienstags und donnerstags von 18 bis 20 Uhr Sportpark Niederheid: montags und mittwochs von 18 bis 20 Uhr Bezirkssportanlage Düsseltal: montags und donnerstags von 18 bis 20 Uhr Rather Waldstadion: mittwochs und freitags von 18 bis 20 Uhr  Die Teilnahme ist kostenlos\, eine Anmeldung nicht erforderlich. Weitere Infos\, Lauftipps und Nutzungshinweise unter www.duesseldorf.de/laufen-unter-flutlicht.  Link zur Veranstaltung: https://youpod.de/youevent/laufen-unter-flutlicht-in-duesseltal/
LOCATION:Windscheidstraße 1840239  Düsseldorf
END:VEVENT
BEGIN:VEVENT
UID:69e7381283189@youpod
DTSTAMP:20260421T084050Z
DTSTART:20251117T180000
DTEND:20251117T190000
SUMMARY:Laufen unter Flutlicht in Düsseltal
DESCRIPTION:Damit euch das Joggen auch in der dunklen Jahreszeit Spaß macht\, lädt euch das Sportamt zu &#8220\;Laufen unter Flutlicht&#8221\; ein. Vom 3. November bis zum 27. März wird dafür auf fünf städtischen Sportanlagen abends die Beleuchtung eingeschaltet:  Arena Sportpark: dienstags und donnerstags von 18 bis 20 Uhr Bezirkssportanlage Lierenfeld: dienstags und donnerstags von 18 bis 20 Uhr Sportpark Niederheid: montags und mittwochs von 18 bis 20 Uhr Bezirkssportanlage Düsseltal: montags und donnerstags von 18 bis 20 Uhr Rather Waldstadion: mittwochs und freitags von 18 bis 20 Uhr  Die Teilnahme ist kostenlos\, eine Anmeldung nicht erforderlich. Weitere Infos\, Lauftipps und Nutzungshinweise unter www.duesseldorf.de/laufen-unter-flutlicht.  Link zur Veranstaltung: https://youpod.de/youevent/laufen-unter-flutlicht-in-duesseltal/
LOCATION:Windscheidstraße 1840239  Düsseldorf
END:VEVENT
BEGIN:VEVENT
UID:69e738128318e@youpod
DTSTAMP:20260421T084050Z
DTSTART:20251120T180000
DTEND:20251120T190000
SUMMARY:Laufen unter Flutlicht in Düsseltal
DESCRIPTION:Damit euch das Joggen auch in der dunklen Jahreszeit Spaß macht\, lädt euch das Sportamt zu &#8220\;Laufen unter Flutlicht&#8221\; ein. Vom 3. November bis zum 27. März wird dafür auf fünf städtischen Sportanlagen abends die Beleuchtung eingeschaltet:  Arena Sportpark: dienstags und donnerstags von 18 bis 20 Uhr Bezirkssportanlage Lierenfeld: dienstags und donnerstags von 18 bis 20 Uhr Sportpark Niederheid: montags und mittwochs von 18 bis 20 Uhr Bezirkssportanlage Düsseltal: montags und donnerstags von 18 bis 20 Uhr Rather Waldstadion: mittwochs und freitags von 18 bis 20 Uhr  Die Teilnahme ist kostenlos\, eine Anmeldung nicht erforderlich. Weitere Infos\, Lauftipps und Nutzungshinweise unter www.duesseldorf.de/laufen-unter-flutlicht.  Link zur Veranstaltung: https://youpod.de/youevent/laufen-unter-flutlicht-in-duesseltal/
LOCATION:Windscheidstraße 1840239  Düsseldorf
END:VEVENT
BEGIN:VEVENT
UID:69e7381283194@youpod
DTSTAMP:20260421T084050Z
DTSTART:20251124T180000
DTEND:20251124T190000
SUMMARY:Laufen unter Flutlicht in Düsseltal
DESCRIPTION:Damit euch das Joggen auch in der dunklen Jahreszeit Spaß macht\, lädt euch das Sportamt zu &#8220\;Laufen unter Flutlicht&#8221\; ein. Vom 3. November bis zum 27. März wird dafür auf fünf städtischen Sportanlagen abends die Beleuchtung eingeschaltet:  Arena Sportpark: dienstags und donnerstags von 18 bis 20 Uhr Bezirkssportanlage Lierenfeld: dienstags und donnerstags von 18 bis 20 Uhr Sportpark Niederheid: montags und mittwochs von 18 bis 20 Uhr Bezirkssportanlage Düsseltal: montags und donnerstags von 18 bis 20 Uhr Rather Waldstadion: mittwochs und freitags von 18 bis 20 Uhr  Die Teilnahme ist kostenlos\, eine Anmeldung nicht erforderlich. Weitere Infos\, Lauftipps und Nutzungshinweise unter www.duesseldorf.de/laufen-unter-flutlicht.  Link zur Veranstaltung: https://youpod.de/youevent/laufen-unter-flutlicht-in-duesseltal/
LOCATION:Windscheidstraße 1840239  Düsseldorf
END:VEVENT
BEGIN:VEVENT
UID:69e7381283199@youpod
DTSTAMP:20260421T084050Z
DTSTART:20251127T180000
DTEND:20251127T190000
SUMMARY:Laufen unter Flutlicht in Düsseltal
DESCRIPTION:Damit euch das Joggen auch in der dunklen Jahreszeit Spaß macht\, lädt euch das Sportamt zu &#8220\;Laufen unter Flutlicht&#8221\; ein. Vom 3. November bis zum 27. März wird dafür auf fünf städtischen Sportanlagen abends die Beleuchtung eingeschaltet:  Arena Sportpark: dienstags und donnerstags von 18 bis 20 Uhr Bezirkssportanlage Lierenfeld: dienstags und donnerstags von 18 bis 20 Uhr Sportpark Niederheid: montags und mittwochs von 18 bis 20 Uhr Bezirkssportanlage Düsseltal: montags und donnerstags von 18 bis 20 Uhr Rather Waldstadion: mittwochs und freitags von 18 bis 20 Uhr  Die Teilnahme ist kostenlos\, eine Anmeldung nicht erforderlich. Weitere Infos\, Lauftipps und Nutzungshinweise unter www.duesseldorf.de/laufen-unter-flutlicht.  Link zur Veranstaltung: https://youpod.de/youevent/laufen-unter-flutlicht-in-duesseltal/
LOCATION:Windscheidstraße 1840239  Düsseldorf
END:VEVENT
BEGIN:VEVENT
UID:69e738128319f@youpod
DTSTAMP:20260421T084050Z
DTSTART:20251201T180000
DTEND:20251201T190000
SUMMARY:Laufen unter Flutlicht in Düsseltal
DESCRIPTION:Damit euch das Joggen auch in der dunklen Jahreszeit Spaß macht\, lädt euch das Sportamt zu &#8220\;Laufen unter Flutlicht&#8221\; ein. Vom 3. November bis zum 27. März wird dafür auf fünf städtischen Sportanlagen abends die Beleuchtung eingeschaltet:  Arena Sportpark: dienstags und donnerstags von 18 bis 20 Uhr Bezirkssportanlage Lierenfeld: dienstags und donnerstags von 18 bis 20 Uhr Sportpark Niederheid: montags und mittwochs von 18 bis 20 Uhr Bezirkssportanlage Düsseltal: montags und donnerstags von 18 bis 20 Uhr Rather Waldstadion: mittwochs und freitags von 18 bis 20 Uhr  Die Teilnahme ist kostenlos\, eine Anmeldung nicht erforderlich. Weitere Infos\, Lauftipps und Nutzungshinweise unter www.duesseldorf.de/laufen-unter-flutlicht.  Link zur Veranstaltung: https://youpod.de/youevent/laufen-unter-flutlicht-in-duesseltal/
LOCATION:Windscheidstraße 1840239  Düsseldorf
END:VEVENT
BEGIN:VEVENT
UID:69e73812831a4@youpod
DTSTAMP:20260421T084050Z
DTSTART:20251204T180000
DTEND:20251204T190000
SUMMARY:Laufen unter Flutlicht in Düsseltal
DESCRIPTION:Damit euch das Joggen auch in der dunklen Jahreszeit Spaß macht\, lädt euch das Sportamt zu &#8220\;Laufen unter Flutlicht&#8221\; ein. Vom 3. November bis zum 27. März wird dafür auf fünf städtischen Sportanlagen abends die Beleuchtung eingeschaltet:  Arena Sportpark: dienstags und donnerstags von 18 bis 20 Uhr Bezirkssportanlage Lierenfeld: dienstags und donnerstags von 18 bis 20 Uhr Sportpark Niederheid: montags und mittwochs von 18 bis 20 Uhr Bezirkssportanlage Düsseltal: montags und donnerstags von 18 bis 20 Uhr Rather Waldstadion: mittwochs und freitags von 18 bis 20 Uhr  Die Teilnahme ist kostenlos\, eine Anmeldung nicht erforderlich. Weitere Infos\, Lauftipps und Nutzungshinweise unter www.duesseldorf.de/laufen-unter-flutlicht.  Link zur Veranstaltung: https://youpod.de/youevent/laufen-unter-flutlicht-in-duesseltal/
LOCATION:Windscheidstraße 1840239  Düsseldorf
END:VEVENT
BEGIN:VEVENT
UID:69e73812831aa@youpod
DTSTAMP:20260421T084050Z
DTSTART:20251208T180000
DTEND:20251208T190000
SUMMARY:Laufen unter Flutlicht in Düsseltal
DESCRIPTION:Damit euch das Joggen auch in der dunklen Jahreszeit Spaß macht\, lädt euch das Sportamt zu &#8220\;Laufen unter Flutlicht&#8221\; ein. Vom 3. November bis zum 27. März wird dafür auf fünf städtischen Sportanlagen abends die Beleuchtung eingeschaltet:  Arena Sportpark: dienstags und donnerstags von 18 bis 20 Uhr Bezirkssportanlage Lierenfeld: dienstags und donnerstags von 18 bis 20 Uhr Sportpark Niederheid: montags und mittwochs von 18 bis 20 Uhr Bezirkssportanlage Düsseltal: montags und donnerstags von 18 bis 20 Uhr Rather Waldstadion: mittwochs und freitags von 18 bis 20 Uhr  Die Teilnahme ist kostenlos\, eine Anmeldung nicht erforderlich. Weitere Infos\, Lauftipps und Nutzungshinweise unter www.duesseldorf.de/laufen-unter-flutlicht.  Link zur Veranstaltung: https://youpod.de/youevent/laufen-unter-flutlicht-in-duesseltal/
LOCATION:Windscheidstraße 1840239  Düsseldorf
END:VEVENT
BEGIN:VEVENT
UID:69e73812831b0@youpod
DTSTAMP:20260421T084050Z
DTSTART:20260129T180000
DTEND:20260129T190000
SUMMARY:Laufen unter Flutlicht in Düsseltal
DESCRIPTION:Damit euch das Joggen auch in der dunklen Jahreszeit Spaß macht\, lädt euch das Sportamt zu &#8220\;Laufen unter Flutlicht&#8221\; ein. Vom 3. November bis zum 27. März wird dafür auf fünf städtischen Sportanlagen abends die Beleuchtung eingeschaltet:  Arena Sportpark: dienstags und donnerstags von 18 bis 20 Uhr Bezirkssportanlage Lierenfeld: dienstags und donnerstags von 18 bis 20 Uhr Sportpark Niederheid: montags und mittwochs von 18 bis 20 Uhr Bezirkssportanlage Düsseltal: montags und donnerstags von 18 bis 20 Uhr Rather Waldstadion: mittwochs und freitags von 18 bis 20 Uhr  Die Teilnahme ist kostenlos\, eine Anmeldung nicht erforderlich. Weitere Infos\, Lauftipps und Nutzungshinweise unter www.duesseldorf.de/laufen-unter-flutlicht.  Link zur Veranstaltung: https://youpod.de/youevent/laufen-unter-flutlicht-in-duesseltal/
LOCATION:Windscheidstraße 1840239  Düsseldorf
END:VEVENT
BEGIN:VEVENT
UID:69e73812831b5@youpod
DTSTAMP:20260421T084050Z
DTSTART:20260202T180000
DTEND:20260202T190000
SUMMARY:Laufen unter Flutlicht in Düsseltal
DESCRIPTION:Damit euch das Joggen auch in der dunklen Jahreszeit Spaß macht\, lädt euch das Sportamt zu &#8220\;Laufen unter Flutlicht&#8221\; ein. Vom 3. November bis zum 27. März wird dafür auf fünf städtischen Sportanlagen abends die Beleuchtung eingeschaltet:  Arena Sportpark: dienstags und donnerstags von 18 bis 20 Uhr Bezirkssportanlage Lierenfeld: dienstags und donnerstags von 18 bis 20 Uhr Sportpark Niederheid: montags und mittwochs von 18 bis 20 Uhr Bezirkssportanlage Düsseltal: montags und donnerstags von 18 bis 20 Uhr Rather Waldstadion: mittwochs und freitags von 18 bis 20 Uhr  Die Teilnahme ist kostenlos\, eine Anmeldung nicht erforderlich. Weitere Infos\, Lauftipps und Nutzungshinweise unter www.duesseldorf.de/laufen-unter-flutlicht.  Link zur Veranstaltung: https://youpod.de/youevent/laufen-unter-flutlicht-in-duesseltal/
LOCATION:Windscheidstraße 1840239  Düsseldorf
END:VEVENT
BEGIN:VEVENT
UID:69e73812831bb@youpod
DTSTAMP:20260421T084050Z
DTSTART:20260205T180000
DTEND:20260205T190000
SUMMARY:Laufen unter Flutlicht in Düsseltal
DESCRIPTION:Damit euch das Joggen auch in der dunklen Jahreszeit Spaß macht\, lädt euch das Sportamt zu &#8220\;Laufen unter Flutlicht&#8221\; ein. Vom 3. November bis zum 27. März wird dafür auf fünf städtischen Sportanlagen abends die Beleuchtung eingeschaltet:  Arena Sportpark: dienstags und donnerstags von 18 bis 20 Uhr Bezirkssportanlage Lierenfeld: dienstags und donnerstags von 18 bis 20 Uhr Sportpark Niederheid: montags und mittwochs von 18 bis 20 Uhr Bezirkssportanlage Düsseltal: montags und donnerstags von 18 bis 20 Uhr Rather Waldstadion: mittwochs und freitags von 18 bis 20 Uhr  Die Teilnahme ist kostenlos\, eine Anmeldung nicht erforderlich. Weitere Infos\, Lauftipps und Nutzungshinweise unter www.duesseldorf.de/laufen-unter-flutlicht.  Link zur Veranstaltung: https://youpod.de/youevent/laufen-unter-flutlicht-in-duesseltal/
LOCATION:Windscheidstraße 1840239  Düsseldorf
END:VEVENT
BEGIN:VEVENT
UID:69e73812831c1@youpod
DTSTAMP:20260421T084050Z
DTSTART:20260209T180000
DTEND:20260209T190000
SUMMARY:Laufen unter Flutlicht in Düsseltal
DESCRIPTION:Damit euch das Joggen auch in der dunklen Jahreszeit Spaß macht\, lädt euch das Sportamt zu &#8220\;Laufen unter Flutlicht&#8221\; ein. Vom 3. November bis zum 27. März wird dafür auf fünf städtischen Sportanlagen abends die Beleuchtung eingeschaltet:  Arena Sportpark: dienstags und donnerstags von 18 bis 20 Uhr Bezirkssportanlage Lierenfeld: dienstags und donnerstags von 18 bis 20 Uhr Sportpark Niederheid: montags und mittwochs von 18 bis 20 Uhr Bezirkssportanlage Düsseltal: montags und donnerstags von 18 bis 20 Uhr Rather Waldstadion: mittwochs und freitags von 18 bis 20 Uhr  Die Teilnahme ist kostenlos\, eine Anmeldung nicht erforderlich. Weitere Infos\, Lauftipps und Nutzungshinweise unter www.duesseldorf.de/laufen-unter-flutlicht.  Link zur Veranstaltung: https://youpod.de/youevent/laufen-unter-flutlicht-in-duesseltal/
LOCATION:Windscheidstraße 1840239  Düsseldorf
END:VEVENT
BEGIN:VEVENT
UID:69e73812831c6@youpod
DTSTAMP:20260421T084050Z
DTSTART:20260212T180000
DTEND:20260212T190000
SUMMARY:Laufen unter Flutlicht in Düsseltal
DESCRIPTION:Damit euch das Joggen auch in der dunklen Jahreszeit Spaß macht\, lädt euch das Sportamt zu &#8220\;Laufen unter Flutlicht&#8221\; ein. Vom 3. November bis zum 27. März wird dafür auf fünf städtischen Sportanlagen abends die Beleuchtung eingeschaltet:  Arena Sportpark: dienstags und donnerstags von 18 bis 20 Uhr Bezirkssportanlage Lierenfeld: dienstags und donnerstags von 18 bis 20 Uhr Sportpark Niederheid: montags und mittwochs von 18 bis 20 Uhr Bezirkssportanlage Düsseltal: montags und donnerstags von 18 bis 20 Uhr Rather Waldstadion: mittwochs und freitags von 18 bis 20 Uhr  Die Teilnahme ist kostenlos\, eine Anmeldung nicht erforderlich. Weitere Infos\, Lauftipps und Nutzungshinweise unter www.duesseldorf.de/laufen-unter-flutlicht.  Link zur Veranstaltung: https://youpod.de/youevent/laufen-unter-flutlicht-in-duesseltal/
LOCATION:Windscheidstraße 1840239  Düsseldorf
END:VEVENT
BEGIN:VEVENT
UID:69e73812831cc@youpod
DTSTAMP:20260421T084050Z
DTSTART:20260216T180000
DTEND:20260216T190000
SUMMARY:Laufen unter Flutlicht in Düsseltal
DESCRIPTION:Damit euch das Joggen auch in der dunklen Jahreszeit Spaß macht\, lädt euch das Sportamt zu &#8220\;Laufen unter Flutlicht&#8221\; ein. Vom 3. November bis zum 27. März wird dafür auf fünf städtischen Sportanlagen abends die Beleuchtung eingeschaltet:  Arena Sportpark: dienstags und donnerstags von 18 bis 20 Uhr Bezirkssportanlage Lierenfeld: dienstags und donnerstags von 18 bis 20 Uhr Sportpark Niederheid: montags und mittwochs von 18 bis 20 Uhr Bezirkssportanlage Düsseltal: montags und donnerstags von 18 bis 20 Uhr Rather Waldstadion: mittwochs und freitags von 18 bis 20 Uhr  Die Teilnahme ist kostenlos\, eine Anmeldung nicht erforderlich. Weitere Infos\, Lauftipps und Nutzungshinweise unter www.duesseldorf.de/laufen-unter-flutlicht.  Link zur Veranstaltung: https://youpod.de/youevent/laufen-unter-flutlicht-in-duesseltal/
LOCATION:Windscheidstraße 1840239  Düsseldorf
END:VEVENT
BEGIN:VEVENT
UID:69e73812831d1@youpod
DTSTAMP:20260421T084050Z
DTSTART:20260219T180000
DTEND:20260219T190000
SUMMARY:Laufen unter Flutlicht in Düsseltal
DESCRIPTION:Damit euch das Joggen auch in der dunklen Jahreszeit Spaß macht\, lädt euch das Sportamt zu &#8220\;Laufen unter Flutlicht&#8221\; ein. Vom 3. November bis zum 27. März wird dafür auf fünf städtischen Sportanlagen abends die Beleuchtung eingeschaltet:  Arena Sportpark: dienstags und donnerstags von 18 bis 20 Uhr Bezirkssportanlage Lierenfeld: dienstags und donnerstags von 18 bis 20 Uhr Sportpark Niederheid: montags und mittwochs von 18 bis 20 Uhr Bezirkssportanlage Düsseltal: montags und donnerstags von 18 bis 20 Uhr Rather Waldstadion: mittwochs und freitags von 18 bis 20 Uhr  Die Teilnahme ist kostenlos\, eine Anmeldung nicht erforderlich. Weitere Infos\, Lauftipps und Nutzungshinweise unter www.duesseldorf.de/laufen-unter-flutlicht.  Link zur Veranstaltung: https://youpod.de/youevent/laufen-unter-flutlicht-in-duesseltal/
LOCATION:Windscheidstraße 1840239  Düsseldorf
END:VEVENT
BEGIN:VEVENT
UID:69e73812831d7@youpod
DTSTAMP:20260421T084050Z
DTSTART:20260223T180000
DTEND:20260223T190000
SUMMARY:Laufen unter Flutlicht in Düsseltal
DESCRIPTION:Damit euch das Joggen auch in der dunklen Jahreszeit Spaß macht\, lädt euch das Sportamt zu &#8220\;Laufen unter Flutlicht&#8221\; ein. Vom 3. November bis zum 27. März wird dafür auf fünf städtischen Sportanlagen abends die Beleuchtung eingeschaltet:  Arena Sportpark: dienstags und donnerstags von 18 bis 20 Uhr Bezirkssportanlage Lierenfeld: dienstags und donnerstags von 18 bis 20 Uhr Sportpark Niederheid: montags und mittwochs von 18 bis 20 Uhr Bezirkssportanlage Düsseltal: montags und donnerstags von 18 bis 20 Uhr Rather Waldstadion: mittwochs und freitags von 18 bis 20 Uhr  Die Teilnahme ist kostenlos\, eine Anmeldung nicht erforderlich. Weitere Infos\, Lauftipps und Nutzungshinweise unter www.duesseldorf.de/laufen-unter-flutlicht.  Link zur Veranstaltung: https://youpod.de/youevent/laufen-unter-flutlicht-in-duesseltal/
LOCATION:Windscheidstraße 1840239  Düsseldorf
END:VEVENT
BEGIN:VEVENT
UID:69e73812831dc@youpod
DTSTAMP:20260421T084050Z
DTSTART:20260226T180000
DTEND:20260226T190000
SUMMARY:Laufen unter Flutlicht in Düsseltal
DESCRIPTION:Damit euch das Joggen auch in der dunklen Jahreszeit Spaß macht\, lädt euch das Sportamt zu &#8220\;Laufen unter Flutlicht&#8221\; ein. Vom 3. November bis zum 27. März wird dafür auf fünf städtischen Sportanlagen abends die Beleuchtung eingeschaltet:  Arena Sportpark: dienstags und donnerstags von 18 bis 20 Uhr Bezirkssportanlage Lierenfeld: dienstags und donnerstags von 18 bis 20 Uhr Sportpark Niederheid: montags und mittwochs von 18 bis 20 Uhr Bezirkssportanlage Düsseltal: montags und donnerstags von 18 bis 20 Uhr Rather Waldstadion: mittwochs und freitags von 18 bis 20 Uhr  Die Teilnahme ist kostenlos\, eine Anmeldung nicht erforderlich. Weitere Infos\, Lauftipps und Nutzungshinweise unter www.duesseldorf.de/laufen-unter-flutlicht.  Link zur Veranstaltung: https://youpod.de/youevent/laufen-unter-flutlicht-in-duesseltal/
LOCATION:Windscheidstraße 1840239  Düsseldorf
END:VEVENT
BEGIN:VEVENT
UID:69e73812831e2@youpod
DTSTAMP:20260421T084050Z
DTSTART:20260302T180000
DTEND:20260302T190000
SUMMARY:Laufen unter Flutlicht in Düsseltal
DESCRIPTION:Damit euch das Joggen auch in der dunklen Jahreszeit Spaß macht\, lädt euch das Sportamt zu &#8220\;Laufen unter Flutlicht&#8221\; ein. Vom 3. November bis zum 27. März wird dafür auf fünf städtischen Sportanlagen abends die Beleuchtung eingeschaltet:  Arena Sportpark: dienstags und donnerstags von 18 bis 20 Uhr Bezirkssportanlage Lierenfeld: dienstags und donnerstags von 18 bis 20 Uhr Sportpark Niederheid: montags und mittwochs von 18 bis 20 Uhr Bezirkssportanlage Düsseltal: montags und donnerstags von 18 bis 20 Uhr Rather Waldstadion: mittwochs und freitags von 18 bis 20 Uhr  Die Teilnahme ist kostenlos\, eine Anmeldung nicht erforderlich. Weitere Infos\, Lauftipps und Nutzungshinweise unter www.duesseldorf.de/laufen-unter-flutlicht.  Link zur Veranstaltung: https://youpod.de/youevent/laufen-unter-flutlicht-in-duesseltal/
LOCATION:Windscheidstraße 1840239  Düsseldorf
END:VEVENT
BEGIN:VEVENT
UID:69e73812831e7@youpod
DTSTAMP:20260421T084050Z
DTSTART:20260305T180000
DTEND:20260305T190000
SUMMARY:Laufen unter Flutlicht in Düsseltal
DESCRIPTION:Damit euch das Joggen auch in der dunklen Jahreszeit Spaß macht\, lädt euch das Sportamt zu &#8220\;Laufen unter Flutlicht&#8221\; ein. Vom 3. November bis zum 27. März wird dafür auf fünf städtischen Sportanlagen abends die Beleuchtung eingeschaltet:  Arena Sportpark: dienstags und donnerstags von 18 bis 20 Uhr Bezirkssportanlage Lierenfeld: dienstags und donnerstags von 18 bis 20 Uhr Sportpark Niederheid: montags und mittwochs von 18 bis 20 Uhr Bezirkssportanlage Düsseltal: montags und donnerstags von 18 bis 20 Uhr Rather Waldstadion: mittwochs und freitags von 18 bis 20 Uhr  Die Teilnahme ist kostenlos\, eine Anmeldung nicht erforderlich. Weitere Infos\, Lauftipps und Nutzungshinweise unter www.duesseldorf.de/laufen-unter-flutlicht.  Link zur Veranstaltung: https://youpod.de/youevent/laufen-unter-flutlicht-in-duesseltal/
LOCATION:Windscheidstraße 1840239  Düsseldorf
END:VEVENT
END:VCALENDAR
