BEGIN:VCALENDAR
VERSION:2.0
PRODID:-//youpod//EN
BEGIN:VEVENT
UID:69e73af4d1e2d@youpod
DTSTAMP:20260421T085308Z
DTSTART:20260206T100000
DTEND:20260206T110000
SUMMARY:Zeugnis-Telefon für Schüler*innen und Eltern
DESCRIPTION:Eltern und Schüler*innen können am Zeugnis-Telefon vor allem rechtliche Fragen klären\, etwa wenn sie die Notengebung für ungerecht halten oder Fragen zur Schullaufbahn haben. Realschule\, Gymnasium\, Gesamtschule\, Sekundarschule\, Gemeinschaftsschule\, Berufskolleg: Rufnummer 0211-47 54 002 Freitag\, 6. Februar\, Montag\, 9. Februar\, Dienstag\, 10. Februar\, jeweils von 10 bis 12 Uhr und von 13 bis 15 Uhr (Bezirksregierung) Grundschule\, Hauptschule\, Förderschule: 0211-89 91 (Stadt Düsseldorf)  Link zur Veranstaltung: https://youpod.de/youevent/zeugnis-telefon-fuer-schuelerinnen-und-eltern-2/
LOCATION:Düsseldorf
END:VEVENT
BEGIN:VEVENT
UID:69e73af4d1e3a@youpod
DTSTAMP:20260421T085308Z
DTSTART:20260206T100000
DTEND:20260206T110000
SUMMARY:Zeugnis-Telefon für Schüler*innen und Eltern
DESCRIPTION:Eltern und Schüler*innen können am Zeugnis-Telefon vor allem rechtliche Fragen klären\, etwa wenn sie die Notengebung für ungerecht halten oder Fragen zur Schullaufbahn haben. Realschule\, Gymnasium\, Gesamtschule\, Sekundarschule\, Gemeinschaftsschule\, Berufskolleg: Rufnummer 0211-47 54 002 Freitag\, 6. Februar\, Montag\, 9. Februar\, Dienstag\, 10. Februar\, jeweils von 10 bis 12 Uhr und von 13 bis 15 Uhr (Bezirksregierung) Grundschule\, Hauptschule\, Förderschule: 0211-89 91 (Stadt Düsseldorf)  Link zur Veranstaltung: https://youpod.de/youevent/zeugnis-telefon-fuer-schuelerinnen-und-eltern-2/
LOCATION:Düsseldorf
END:VEVENT
BEGIN:VEVENT
UID:69e73af4d1e41@youpod
DTSTAMP:20260421T085308Z
DTSTART:20260209T100000
DTEND:20260209T110000
SUMMARY:Zeugnis-Telefon für Schüler*innen und Eltern
DESCRIPTION:Eltern und Schüler*innen können am Zeugnis-Telefon vor allem rechtliche Fragen klären\, etwa wenn sie die Notengebung für ungerecht halten oder Fragen zur Schullaufbahn haben. Realschule\, Gymnasium\, Gesamtschule\, Sekundarschule\, Gemeinschaftsschule\, Berufskolleg: Rufnummer 0211-47 54 002 Freitag\, 6. Februar\, Montag\, 9. Februar\, Dienstag\, 10. Februar\, jeweils von 10 bis 12 Uhr und von 13 bis 15 Uhr (Bezirksregierung) Grundschule\, Hauptschule\, Förderschule: 0211-89 91 (Stadt Düsseldorf)  Link zur Veranstaltung: https://youpod.de/youevent/zeugnis-telefon-fuer-schuelerinnen-und-eltern-2/
LOCATION:Düsseldorf
END:VEVENT
BEGIN:VEVENT
UID:69e73af4d1e48@youpod
DTSTAMP:20260421T085308Z
DTSTART:20260209T100000
DTEND:20260209T110000
SUMMARY:Zeugnis-Telefon für Schüler*innen und Eltern
DESCRIPTION:Eltern und Schüler*innen können am Zeugnis-Telefon vor allem rechtliche Fragen klären\, etwa wenn sie die Notengebung für ungerecht halten oder Fragen zur Schullaufbahn haben. Realschule\, Gymnasium\, Gesamtschule\, Sekundarschule\, Gemeinschaftsschule\, Berufskolleg: Rufnummer 0211-47 54 002 Freitag\, 6. Februar\, Montag\, 9. Februar\, Dienstag\, 10. Februar\, jeweils von 10 bis 12 Uhr und von 13 bis 15 Uhr (Bezirksregierung) Grundschule\, Hauptschule\, Förderschule: 0211-89 91 (Stadt Düsseldorf)  Link zur Veranstaltung: https://youpod.de/youevent/zeugnis-telefon-fuer-schuelerinnen-und-eltern-2/
LOCATION:Düsseldorf
END:VEVENT
BEGIN:VEVENT
UID:69e73af4d1e4f@youpod
DTSTAMP:20260421T085308Z
DTSTART:20260210T100000
DTEND:20260210T110000
SUMMARY:Zeugnis-Telefon für Schüler*innen und Eltern
DESCRIPTION:Eltern und Schüler*innen können am Zeugnis-Telefon vor allem rechtliche Fragen klären\, etwa wenn sie die Notengebung für ungerecht halten oder Fragen zur Schullaufbahn haben. Realschule\, Gymnasium\, Gesamtschule\, Sekundarschule\, Gemeinschaftsschule\, Berufskolleg: Rufnummer 0211-47 54 002 Freitag\, 6. Februar\, Montag\, 9. Februar\, Dienstag\, 10. Februar\, jeweils von 10 bis 12 Uhr und von 13 bis 15 Uhr (Bezirksregierung) Grundschule\, Hauptschule\, Förderschule: 0211-89 91 (Stadt Düsseldorf)  Link zur Veranstaltung: https://youpod.de/youevent/zeugnis-telefon-fuer-schuelerinnen-und-eltern-2/
LOCATION:Düsseldorf
END:VEVENT
BEGIN:VEVENT
UID:69e73af4d1e54@youpod
DTSTAMP:20260421T085308Z
DTSTART:20260210T100000
DTEND:20260210T110000
SUMMARY:Zeugnis-Telefon für Schüler*innen und Eltern
DESCRIPTION:Eltern und Schüler*innen können am Zeugnis-Telefon vor allem rechtliche Fragen klären\, etwa wenn sie die Notengebung für ungerecht halten oder Fragen zur Schullaufbahn haben. Realschule\, Gymnasium\, Gesamtschule\, Sekundarschule\, Gemeinschaftsschule\, Berufskolleg: Rufnummer 0211-47 54 002 Freitag\, 6. Februar\, Montag\, 9. Februar\, Dienstag\, 10. Februar\, jeweils von 10 bis 12 Uhr und von 13 bis 15 Uhr (Bezirksregierung) Grundschule\, Hauptschule\, Förderschule: 0211-89 91 (Stadt Düsseldorf)  Link zur Veranstaltung: https://youpod.de/youevent/zeugnis-telefon-fuer-schuelerinnen-und-eltern-2/
LOCATION:Düsseldorf
END:VEVENT
END:VCALENDAR
