BEGIN:VCALENDAR
VERSION:2.0
PRODID:-//youpod//EN
BEGIN:VEVENT
UID:69e74de4e59e8@youpod
DTSTAMP:20260421T101356Z
DTSTART:20240909T183000
DTEND:20240909T193000
SUMMARY:Boulebattle
DESCRIPTION:Das Boule-Battle ist eine langjährige Tradition beim BDKJ und der botschaft. Kommt vorbei und genießt einen sonnigen Abend mit kühlen Getränken und spannenden Boule-Runden!  Meldet euch als Gruppe oder Einzelperson an und messt euch in mehreren Runden mit anderen. Auf die Sieger*innen warten stadtweiter Ruhm und verrückte Preise. Ort: Bouleanlage &#8220\;Sur Place&#8221\; neben der Bezirkssportanlage Anmeldung hier!   Link zur Veranstaltung: https://youpod.de/youevent/boulebattle/
LOCATION:Pariser Straße 45 40549 Düsseldorf
END:VEVENT
END:VCALENDAR
