BEGIN:VCALENDAR
VERSION:2.0
PRODID:-//youpod//EN
BEGIN:VEVENT
UID:69e4d2c594c28@youpod
DTSTAMP:20260419T130405Z
DTSTART:20240917T173000
DTEND:20240917T183000
SUMMARY:Wie Legolas\, Robin Hood oder Merida!
DESCRIPTION:Hast du Lust\, Bogenschießen auszuprobieren? Gemeinsam mit unserer Expertin Anna lernst du die Technik und kannst unter freiem Himmel üben.  Bogenschießen ist mehr als ein Sport – es fördert Konzentration\, Entspannung und kann meditativ wirken. Sei gespannt und probier es aus! Bitte bring wetterfeste Kleidung mit. Weitere Infos folgen nach der Anmeldung. Anmeldung hier!  Link zur Veranstaltung: https://youpod.de/youevent/wie-legolas-robin-hood-oder-merida/
LOCATION:Aderdamm 29 40221 Düsseldorf
END:VEVENT
END:VCALENDAR
