BEGIN:VCALENDAR
VERSION:2.0
PRODID:-//youpod//EN
BEGIN:VEVENT
UID:69eccf2f39fa5@youpod
DTSTAMP:20260425T142655Z
DTSTART:20260426T133000
DTEND:20260426T143000
SUMMARY:Ferndenden LARP
DESCRIPTION:Lust in eine fantasievolle Welt einzutauchen? Mittelalter ist dein Ding? Verkleiden macht dir Spaß? Du würdest gerne mal ein Handwerk nachgehen oder mit speziellen Polsterwaffen Kämpfe austragen ohne dich wirklich zu verletzen? Du rätselst gerne oder fühlst dich in Diplomatie wohl? Magie bezaubert dich? Dann bist du bei der Ferndenden-LARP-Gruppe richtig! Schlüpfe in die Rolle eines Menschen\, Elfen\, Zwerg\, Ork\, Halbling\, Sirene\, Kender\, … und mach mit. Wenn du noch keine eigene Kleidung und Ausrüstung hast\, bekommst du hier Hilfe. Am besten vorab anmelden: frostpakt@web.de Zeit: 13.30 bis etwa 19/20 Uhr  Link zur Veranstaltung: https://youpod.de/youevent/ferndenden-larp/
LOCATION:Selbstverwaltetes Jugend- und Kulturzentrum Haus Spilles \, Benrather Schloßallee 93 \, 40597 Düsseldorf
END:VEVENT
END:VCALENDAR
