BEGIN:VCALENDAR
VERSION:2.0
PRODID:-//youpod//EN
BEGIN:VEVENT
UID:69e64d9cca1a5@youpod
DTSTAMP:20260420T160028Z
DTSTART:20200113T180000
DTEND:20200113T190000
SUMMARY:1. Fancafé 2020 + Warm-up-Dart-Turnier
DESCRIPTION:Das neue Jahr ist inzwischen eine Woche alt und auch das Fanprojekt ist nach den Festtagen wieder für euch da.&nbsp\;Am Montag\, 13. Januar\, öffnet es zum ersten Mal in diesem Jahr das Fancafé. Gleichzeitig kommt das erste kleine Highlight: Nach der Darts-WM ist vor der inzwischen traditionellen Fanprojekt-Darts-Liga! Zum Einstieg veranstaltet das Fanprojekt zum ersten Fancafé ein Dart-Turnier\, bei dem ihr euch messen und für die Liga einwerfen könnt. Beginn des Turniers ist um 19 Uhr\, die Teilnahme ist selbstverständlich kostenlos. Die Anmeldung ist bis 18.45 Uhr möglich.  Link zur Veranstaltung: https://youpod.de/youevent/1-fancafe-2020-warm-up-dart-turnier/
END:VEVENT
END:VCALENDAR
