BEGIN:VCALENDAR
VERSION:2.0
PRODID:-//youpod//EN
BEGIN:VEVENT
UID:69e6c088efc95@youpod
DTSTAMP:20260421T001048Z
DTSTART:20200708T193000
DTEND:20200708T203000
SUMMARY:Zumba (Sport im Park)
DESCRIPTION:Sport im Park wird ab Montag\, 18. Mai 2020 wieder im Freien veranstaltet.  Ganz wichtig: Für alle Kurse gelten Verhaltensregeln der Stadt Düsseldorf\, die die Coronaschutzverordnung berücksichtigen. Alle\, die mitmachen wollen\, müssen die Regeln vor der Teilnahme lesen und sie auf alle Fälle einhalten: https://bit.ly/361z0YB. Sport im Park ist ein unverbindliches und kostenloses Gesundheits- und Fitnesstraining für Untrainierte ebenso wie für Sportliche aller Altersgruppen. Das Projekt richtet sich an Menschen mit und ohne Beeinträchtigung. Die kostenfreien Angebote werden im Auftrag der Landeshauptstadt Düsseldorf von qualifizierten Trainerinnen und Trainern durchgeführt. Das Training dauert rund eine Stunde und findet bei jedem Wetter statt – auch in den Schulferien und an Feiertagen. Weitere Infos und den Stundenplan erhaltet ihr auf der Facebook-Seite von Sport im Park. Beim Zumba trainiert ihr mit einer Mischung aus Aerobic und Tanz den ganzen Körper.  Termine für euch trotz Corona Infos\, Tipps und Links zum Corona-Virus  Link zur Veranstaltung: https://youpod.de/youevent/zumba-sport-im-park/
LOCATION:Cecilienallee\, 40213 Düsseldorf
END:VEVENT
BEGIN:VEVENT
UID:69e6c088efcb8@youpod
DTSTAMP:20260421T001048Z
DTSTART:20200826T193000
DTEND:20200826T203000
SUMMARY:Zumba (Sport im Park)
DESCRIPTION:Sport im Park wird ab Montag\, 18. Mai 2020 wieder im Freien veranstaltet.  Ganz wichtig: Für alle Kurse gelten Verhaltensregeln der Stadt Düsseldorf\, die die Coronaschutzverordnung berücksichtigen. Alle\, die mitmachen wollen\, müssen die Regeln vor der Teilnahme lesen und sie auf alle Fälle einhalten: https://bit.ly/361z0YB. Sport im Park ist ein unverbindliches und kostenloses Gesundheits- und Fitnesstraining für Untrainierte ebenso wie für Sportliche aller Altersgruppen. Das Projekt richtet sich an Menschen mit und ohne Beeinträchtigung. Die kostenfreien Angebote werden im Auftrag der Landeshauptstadt Düsseldorf von qualifizierten Trainerinnen und Trainern durchgeführt. Das Training dauert rund eine Stunde und findet bei jedem Wetter statt – auch in den Schulferien und an Feiertagen. Weitere Infos und den Stundenplan erhaltet ihr auf der Facebook-Seite von Sport im Park. Beim Zumba trainiert ihr mit einer Mischung aus Aerobic und Tanz den ganzen Körper.  Termine für euch trotz Corona Infos\, Tipps und Links zum Corona-Virus  Link zur Veranstaltung: https://youpod.de/youevent/zumba-sport-im-park/
LOCATION:Cecilienallee\, 40213 Düsseldorf
END:VEVENT
BEGIN:VEVENT
UID:69e6c088efcc1@youpod
DTSTAMP:20260421T001048Z
DTSTART:20200902T193000
DTEND:20200902T203000
SUMMARY:Zumba (Sport im Park)
DESCRIPTION:Sport im Park wird ab Montag\, 18. Mai 2020 wieder im Freien veranstaltet.  Ganz wichtig: Für alle Kurse gelten Verhaltensregeln der Stadt Düsseldorf\, die die Coronaschutzverordnung berücksichtigen. Alle\, die mitmachen wollen\, müssen die Regeln vor der Teilnahme lesen und sie auf alle Fälle einhalten: https://bit.ly/361z0YB. Sport im Park ist ein unverbindliches und kostenloses Gesundheits- und Fitnesstraining für Untrainierte ebenso wie für Sportliche aller Altersgruppen. Das Projekt richtet sich an Menschen mit und ohne Beeinträchtigung. Die kostenfreien Angebote werden im Auftrag der Landeshauptstadt Düsseldorf von qualifizierten Trainerinnen und Trainern durchgeführt. Das Training dauert rund eine Stunde und findet bei jedem Wetter statt – auch in den Schulferien und an Feiertagen. Weitere Infos und den Stundenplan erhaltet ihr auf der Facebook-Seite von Sport im Park. Beim Zumba trainiert ihr mit einer Mischung aus Aerobic und Tanz den ganzen Körper.  Termine für euch trotz Corona Infos\, Tipps und Links zum Corona-Virus  Link zur Veranstaltung: https://youpod.de/youevent/zumba-sport-im-park/
LOCATION:Cecilienallee\, 40213 Düsseldorf
END:VEVENT
BEGIN:VEVENT
UID:69e6c088efcc8@youpod
DTSTAMP:20260421T001048Z
DTSTART:20200909T193000
DTEND:20200909T203000
SUMMARY:Zumba (Sport im Park)
DESCRIPTION:Sport im Park wird ab Montag\, 18. Mai 2020 wieder im Freien veranstaltet.  Ganz wichtig: Für alle Kurse gelten Verhaltensregeln der Stadt Düsseldorf\, die die Coronaschutzverordnung berücksichtigen. Alle\, die mitmachen wollen\, müssen die Regeln vor der Teilnahme lesen und sie auf alle Fälle einhalten: https://bit.ly/361z0YB. Sport im Park ist ein unverbindliches und kostenloses Gesundheits- und Fitnesstraining für Untrainierte ebenso wie für Sportliche aller Altersgruppen. Das Projekt richtet sich an Menschen mit und ohne Beeinträchtigung. Die kostenfreien Angebote werden im Auftrag der Landeshauptstadt Düsseldorf von qualifizierten Trainerinnen und Trainern durchgeführt. Das Training dauert rund eine Stunde und findet bei jedem Wetter statt – auch in den Schulferien und an Feiertagen. Weitere Infos und den Stundenplan erhaltet ihr auf der Facebook-Seite von Sport im Park. Beim Zumba trainiert ihr mit einer Mischung aus Aerobic und Tanz den ganzen Körper.  Termine für euch trotz Corona Infos\, Tipps und Links zum Corona-Virus  Link zur Veranstaltung: https://youpod.de/youevent/zumba-sport-im-park/
LOCATION:Cecilienallee\, 40213 Düsseldorf
END:VEVENT
END:VCALENDAR
