BEGIN:VCALENDAR
VERSION:2.0
PRODID:-//youpod//EN
BEGIN:VEVENT
UID:69eb4de4b0048@youpod
DTSTAMP:20260424T110300Z
DTSTART:20260428T170000
DTEND:20260428T180000
SUMMARY:Arbeitstreffen Düsseldorfer Jugendrat
DESCRIPTION:Der Jugendrat trifft sich regelmäßig im Jugendinformationszentrum zeTT. Er bespricht seine Sitzungen im Rathaus und Themen\, die Jugendlichen in der Stadt wichtig sind.  Alle Jugendlichen können dabei sein und sich engagieren\, auch wenn sie nicht in den Jugendrat gewählt wurden. Geplant ist\, dass das Treffen jeden Dienstag um 17 Uhr stattfindet. Wenn du nachfragen möchtest\, welche Themen besprochen werden oder wann das nächste Treffen ist\, kannst du im zeTT nachfragen. Mehr Infos zum Jugendrat: www.youpod.de/jugendrat  Link zur Veranstaltung: https://youpod.de/youevent/arbeitstreffen-duesseldorfer-jugendrat/
LOCATION:Willi-Becker-Allee 10\, 40227 Düsseldorf
END:VEVENT
BEGIN:VEVENT
UID:69eb4de4b0096@youpod
DTSTAMP:20260424T110300Z
DTSTART:20260505T170000
DTEND:20260505T180000
SUMMARY:Arbeitstreffen Düsseldorfer Jugendrat
DESCRIPTION:Der Jugendrat trifft sich regelmäßig im Jugendinformationszentrum zeTT. Er bespricht seine Sitzungen im Rathaus und Themen\, die Jugendlichen in der Stadt wichtig sind.  Alle Jugendlichen können dabei sein und sich engagieren\, auch wenn sie nicht in den Jugendrat gewählt wurden. Geplant ist\, dass das Treffen jeden Dienstag um 17 Uhr stattfindet. Wenn du nachfragen möchtest\, welche Themen besprochen werden oder wann das nächste Treffen ist\, kannst du im zeTT nachfragen. Mehr Infos zum Jugendrat: www.youpod.de/jugendrat  Link zur Veranstaltung: https://youpod.de/youevent/arbeitstreffen-duesseldorfer-jugendrat/
LOCATION:Willi-Becker-Allee 10\, 40227 Düsseldorf
END:VEVENT
BEGIN:VEVENT
UID:69eb4de4b00a2@youpod
DTSTAMP:20260424T110300Z
DTSTART:20260512T170000
DTEND:20260512T180000
SUMMARY:Arbeitstreffen Düsseldorfer Jugendrat
DESCRIPTION:Der Jugendrat trifft sich regelmäßig im Jugendinformationszentrum zeTT. Er bespricht seine Sitzungen im Rathaus und Themen\, die Jugendlichen in der Stadt wichtig sind.  Alle Jugendlichen können dabei sein und sich engagieren\, auch wenn sie nicht in den Jugendrat gewählt wurden. Geplant ist\, dass das Treffen jeden Dienstag um 17 Uhr stattfindet. Wenn du nachfragen möchtest\, welche Themen besprochen werden oder wann das nächste Treffen ist\, kannst du im zeTT nachfragen. Mehr Infos zum Jugendrat: www.youpod.de/jugendrat  Link zur Veranstaltung: https://youpod.de/youevent/arbeitstreffen-duesseldorfer-jugendrat/
LOCATION:Willi-Becker-Allee 10\, 40227 Düsseldorf
END:VEVENT
BEGIN:VEVENT
UID:69eb4de4b00ad@youpod
DTSTAMP:20260424T110300Z
DTSTART:20260519T170000
DTEND:20260519T180000
SUMMARY:Arbeitstreffen Düsseldorfer Jugendrat
DESCRIPTION:Der Jugendrat trifft sich regelmäßig im Jugendinformationszentrum zeTT. Er bespricht seine Sitzungen im Rathaus und Themen\, die Jugendlichen in der Stadt wichtig sind.  Alle Jugendlichen können dabei sein und sich engagieren\, auch wenn sie nicht in den Jugendrat gewählt wurden. Geplant ist\, dass das Treffen jeden Dienstag um 17 Uhr stattfindet. Wenn du nachfragen möchtest\, welche Themen besprochen werden oder wann das nächste Treffen ist\, kannst du im zeTT nachfragen. Mehr Infos zum Jugendrat: www.youpod.de/jugendrat  Link zur Veranstaltung: https://youpod.de/youevent/arbeitstreffen-duesseldorfer-jugendrat/
LOCATION:Willi-Becker-Allee 10\, 40227 Düsseldorf
END:VEVENT
BEGIN:VEVENT
UID:69eb4de4b00b7@youpod
DTSTAMP:20260424T110300Z
DTSTART:20260602T170000
DTEND:20260602T180000
SUMMARY:Arbeitstreffen Düsseldorfer Jugendrat
DESCRIPTION:Der Jugendrat trifft sich regelmäßig im Jugendinformationszentrum zeTT. Er bespricht seine Sitzungen im Rathaus und Themen\, die Jugendlichen in der Stadt wichtig sind.  Alle Jugendlichen können dabei sein und sich engagieren\, auch wenn sie nicht in den Jugendrat gewählt wurden. Geplant ist\, dass das Treffen jeden Dienstag um 17 Uhr stattfindet. Wenn du nachfragen möchtest\, welche Themen besprochen werden oder wann das nächste Treffen ist\, kannst du im zeTT nachfragen. Mehr Infos zum Jugendrat: www.youpod.de/jugendrat  Link zur Veranstaltung: https://youpod.de/youevent/arbeitstreffen-duesseldorfer-jugendrat/
LOCATION:Willi-Becker-Allee 10\, 40227 Düsseldorf
END:VEVENT
BEGIN:VEVENT
UID:69eb4de4b00c2@youpod
DTSTAMP:20260424T110300Z
DTSTART:20260609T170000
DTEND:20260609T180000
SUMMARY:Arbeitstreffen Düsseldorfer Jugendrat
DESCRIPTION:Der Jugendrat trifft sich regelmäßig im Jugendinformationszentrum zeTT. Er bespricht seine Sitzungen im Rathaus und Themen\, die Jugendlichen in der Stadt wichtig sind.  Alle Jugendlichen können dabei sein und sich engagieren\, auch wenn sie nicht in den Jugendrat gewählt wurden. Geplant ist\, dass das Treffen jeden Dienstag um 17 Uhr stattfindet. Wenn du nachfragen möchtest\, welche Themen besprochen werden oder wann das nächste Treffen ist\, kannst du im zeTT nachfragen. Mehr Infos zum Jugendrat: www.youpod.de/jugendrat  Link zur Veranstaltung: https://youpod.de/youevent/arbeitstreffen-duesseldorfer-jugendrat/
LOCATION:Willi-Becker-Allee 10\, 40227 Düsseldorf
END:VEVENT
BEGIN:VEVENT
UID:69eb4de4b00cb@youpod
DTSTAMP:20260424T110300Z
DTSTART:20260616T170000
DTEND:20260616T180000
SUMMARY:Arbeitstreffen Düsseldorfer Jugendrat
DESCRIPTION:Der Jugendrat trifft sich regelmäßig im Jugendinformationszentrum zeTT. Er bespricht seine Sitzungen im Rathaus und Themen\, die Jugendlichen in der Stadt wichtig sind.  Alle Jugendlichen können dabei sein und sich engagieren\, auch wenn sie nicht in den Jugendrat gewählt wurden. Geplant ist\, dass das Treffen jeden Dienstag um 17 Uhr stattfindet. Wenn du nachfragen möchtest\, welche Themen besprochen werden oder wann das nächste Treffen ist\, kannst du im zeTT nachfragen. Mehr Infos zum Jugendrat: www.youpod.de/jugendrat  Link zur Veranstaltung: https://youpod.de/youevent/arbeitstreffen-duesseldorfer-jugendrat/
LOCATION:Willi-Becker-Allee 10\, 40227 Düsseldorf
END:VEVENT
BEGIN:VEVENT
UID:69eb4de4b00d5@youpod
DTSTAMP:20260424T110300Z
DTSTART:20260623T170000
DTEND:20260623T180000
SUMMARY:Arbeitstreffen Düsseldorfer Jugendrat
DESCRIPTION:Der Jugendrat trifft sich regelmäßig im Jugendinformationszentrum zeTT. Er bespricht seine Sitzungen im Rathaus und Themen\, die Jugendlichen in der Stadt wichtig sind.  Alle Jugendlichen können dabei sein und sich engagieren\, auch wenn sie nicht in den Jugendrat gewählt wurden. Geplant ist\, dass das Treffen jeden Dienstag um 17 Uhr stattfindet. Wenn du nachfragen möchtest\, welche Themen besprochen werden oder wann das nächste Treffen ist\, kannst du im zeTT nachfragen. Mehr Infos zum Jugendrat: www.youpod.de/jugendrat  Link zur Veranstaltung: https://youpod.de/youevent/arbeitstreffen-duesseldorfer-jugendrat/
LOCATION:Willi-Becker-Allee 10\, 40227 Düsseldorf
END:VEVENT
BEGIN:VEVENT
UID:69eb4de4b00de@youpod
DTSTAMP:20260424T110300Z
DTSTART:20260630T170000
DTEND:20260630T180000
SUMMARY:Arbeitstreffen Düsseldorfer Jugendrat
DESCRIPTION:Der Jugendrat trifft sich regelmäßig im Jugendinformationszentrum zeTT. Er bespricht seine Sitzungen im Rathaus und Themen\, die Jugendlichen in der Stadt wichtig sind.  Alle Jugendlichen können dabei sein und sich engagieren\, auch wenn sie nicht in den Jugendrat gewählt wurden. Geplant ist\, dass das Treffen jeden Dienstag um 17 Uhr stattfindet. Wenn du nachfragen möchtest\, welche Themen besprochen werden oder wann das nächste Treffen ist\, kannst du im zeTT nachfragen. Mehr Infos zum Jugendrat: www.youpod.de/jugendrat  Link zur Veranstaltung: https://youpod.de/youevent/arbeitstreffen-duesseldorfer-jugendrat/
LOCATION:Willi-Becker-Allee 10\, 40227 Düsseldorf
END:VEVENT
BEGIN:VEVENT
UID:69eb4de4b00e8@youpod
DTSTAMP:20260424T110300Z
DTSTART:20260707T170000
DTEND:20260707T180000
SUMMARY:Arbeitstreffen Düsseldorfer Jugendrat
DESCRIPTION:Der Jugendrat trifft sich regelmäßig im Jugendinformationszentrum zeTT. Er bespricht seine Sitzungen im Rathaus und Themen\, die Jugendlichen in der Stadt wichtig sind.  Alle Jugendlichen können dabei sein und sich engagieren\, auch wenn sie nicht in den Jugendrat gewählt wurden. Geplant ist\, dass das Treffen jeden Dienstag um 17 Uhr stattfindet. Wenn du nachfragen möchtest\, welche Themen besprochen werden oder wann das nächste Treffen ist\, kannst du im zeTT nachfragen. Mehr Infos zum Jugendrat: www.youpod.de/jugendrat  Link zur Veranstaltung: https://youpod.de/youevent/arbeitstreffen-duesseldorfer-jugendrat/
LOCATION:Willi-Becker-Allee 10\, 40227 Düsseldorf
END:VEVENT
END:VCALENDAR
