BEGIN:VCALENDAR
VERSION:2.0
PRODID:-//youpod//EN
BEGIN:VEVENT
UID:69e6381b9e882@youpod
DTSTAMP:20260420T142843Z
DTSTART:20251031T150000
DTEND:20251031T160000
SUMMARY:Mädchentag in der Icklack
DESCRIPTION:Jeden Freitag gibt es von 15 bis 18 Uhr für Mädchen viel zu erleben in der Freizeiteinrichtung Icklack in Flingern.  Die Angebote sind kostenfrei und wechseln.  Link zur Veranstaltung: https://youpod.de/youevent/maedchentag-in-der-icklack/
LOCATION:Höherweg 12\, 40233 Düsseldorf
END:VEVENT
BEGIN:VEVENT
UID:69e6381b9e8a4@youpod
DTSTAMP:20260420T142843Z
DTSTART:20251107T150000
DTEND:20251107T160000
SUMMARY:Mädchentag in der Icklack
DESCRIPTION:Jeden Freitag gibt es von 15 bis 18 Uhr für Mädchen viel zu erleben in der Freizeiteinrichtung Icklack in Flingern.  Die Angebote sind kostenfrei und wechseln.  Link zur Veranstaltung: https://youpod.de/youevent/maedchentag-in-der-icklack/
LOCATION:Höherweg 12\, 40233 Düsseldorf
END:VEVENT
BEGIN:VEVENT
UID:69e6381b9e8aa@youpod
DTSTAMP:20260420T142843Z
DTSTART:20251114T150000
DTEND:20251114T160000
SUMMARY:Mädchentag in der Icklack
DESCRIPTION:Jeden Freitag gibt es von 15 bis 18 Uhr für Mädchen viel zu erleben in der Freizeiteinrichtung Icklack in Flingern.  Die Angebote sind kostenfrei und wechseln.  Link zur Veranstaltung: https://youpod.de/youevent/maedchentag-in-der-icklack/
LOCATION:Höherweg 12\, 40233 Düsseldorf
END:VEVENT
BEGIN:VEVENT
UID:69e6381b9e8b0@youpod
DTSTAMP:20260420T142843Z
DTSTART:20251121T150000
DTEND:20251121T160000
SUMMARY:Mädchentag in der Icklack
DESCRIPTION:Jeden Freitag gibt es von 15 bis 18 Uhr für Mädchen viel zu erleben in der Freizeiteinrichtung Icklack in Flingern.  Die Angebote sind kostenfrei und wechseln.  Link zur Veranstaltung: https://youpod.de/youevent/maedchentag-in-der-icklack/
LOCATION:Höherweg 12\, 40233 Düsseldorf
END:VEVENT
BEGIN:VEVENT
UID:69e6381b9e8b5@youpod
DTSTAMP:20260420T142843Z
DTSTART:20251128T150000
DTEND:20251128T160000
SUMMARY:Mädchentag in der Icklack
DESCRIPTION:Jeden Freitag gibt es von 15 bis 18 Uhr für Mädchen viel zu erleben in der Freizeiteinrichtung Icklack in Flingern.  Die Angebote sind kostenfrei und wechseln.  Link zur Veranstaltung: https://youpod.de/youevent/maedchentag-in-der-icklack/
LOCATION:Höherweg 12\, 40233 Düsseldorf
END:VEVENT
BEGIN:VEVENT
UID:69e6381b9e8ba@youpod
DTSTAMP:20260420T142843Z
DTSTART:20251205T150000
DTEND:20251205T160000
SUMMARY:Mädchentag in der Icklack
DESCRIPTION:Jeden Freitag gibt es von 15 bis 18 Uhr für Mädchen viel zu erleben in der Freizeiteinrichtung Icklack in Flingern.  Die Angebote sind kostenfrei und wechseln.  Link zur Veranstaltung: https://youpod.de/youevent/maedchentag-in-der-icklack/
LOCATION:Höherweg 12\, 40233 Düsseldorf
END:VEVENT
BEGIN:VEVENT
UID:69e6381b9e8bf@youpod
DTSTAMP:20260420T142843Z
DTSTART:20251212T150000
DTEND:20251212T160000
SUMMARY:Mädchentag in der Icklack
DESCRIPTION:Jeden Freitag gibt es von 15 bis 18 Uhr für Mädchen viel zu erleben in der Freizeiteinrichtung Icklack in Flingern.  Die Angebote sind kostenfrei und wechseln.  Link zur Veranstaltung: https://youpod.de/youevent/maedchentag-in-der-icklack/
LOCATION:Höherweg 12\, 40233 Düsseldorf
END:VEVENT
BEGIN:VEVENT
UID:69e6381b9e8c5@youpod
DTSTAMP:20260420T142843Z
DTSTART:20251219T150000
DTEND:20251219T160000
SUMMARY:Mädchentag in der Icklack
DESCRIPTION:Jeden Freitag gibt es von 15 bis 18 Uhr für Mädchen viel zu erleben in der Freizeiteinrichtung Icklack in Flingern.  Die Angebote sind kostenfrei und wechseln.  Link zur Veranstaltung: https://youpod.de/youevent/maedchentag-in-der-icklack/
LOCATION:Höherweg 12\, 40233 Düsseldorf
END:VEVENT
END:VCALENDAR
