BEGIN:VCALENDAR
VERSION:2.0
PRODID:-//youpod//EN
BEGIN:VEVENT
UID:69e767fe9fb78@youpod
DTSTAMP:20260421T120518Z
DTSTART:20260107T133000
DTEND:20260107T143000
SUMMARY:Karnevalskostüm und Party-Deko machen im Mädchentreff
DESCRIPTION:Im Mädchentreff Leyla bereitest du dich auf Karneval vor. Du kannst im Januar dein eigenes Kostüm machen und Deko für die Treff-Party am 1. Februar basteln. 7. bis 16. Januar: Mach deine eigene Verkleidung 19. bis 30. Januar: Wir schneiden\, basteln und kleben Öffnungszeit: Montag bis Freitag\, 13.30 Uhr bis 18 Uhr Die Angebote sind kostenfrei und inklusiv\, für Mädchen von 10 bis 27 Jahren. Im Treff kannst du außerdem: spielen\, kickern\, Freund*innen treffen\, gamen\, Hausaufgaben machen und vieles mehr.  Link zur Veranstaltung: https://youpod.de/youevent/karnevalskostuem-und-party-deko-machen-im-maedchentreff/
LOCATION:Corneliusstraße 59\, 40215 Düsseldorf
END:VEVENT
BEGIN:VEVENT
UID:69e767fe9fb88@youpod
DTSTAMP:20260421T120518Z
DTSTART:20260108T133000
DTEND:20260108T143000
SUMMARY:Karnevalskostüm und Party-Deko machen im Mädchentreff
DESCRIPTION:Im Mädchentreff Leyla bereitest du dich auf Karneval vor. Du kannst im Januar dein eigenes Kostüm machen und Deko für die Treff-Party am 1. Februar basteln. 7. bis 16. Januar: Mach deine eigene Verkleidung 19. bis 30. Januar: Wir schneiden\, basteln und kleben Öffnungszeit: Montag bis Freitag\, 13.30 Uhr bis 18 Uhr Die Angebote sind kostenfrei und inklusiv\, für Mädchen von 10 bis 27 Jahren. Im Treff kannst du außerdem: spielen\, kickern\, Freund*innen treffen\, gamen\, Hausaufgaben machen und vieles mehr.  Link zur Veranstaltung: https://youpod.de/youevent/karnevalskostuem-und-party-deko-machen-im-maedchentreff/
LOCATION:Corneliusstraße 59\, 40215 Düsseldorf
END:VEVENT
BEGIN:VEVENT
UID:69e767fe9fb8f@youpod
DTSTAMP:20260421T120518Z
DTSTART:20260109T133000
DTEND:20260109T143000
SUMMARY:Karnevalskostüm und Party-Deko machen im Mädchentreff
DESCRIPTION:Im Mädchentreff Leyla bereitest du dich auf Karneval vor. Du kannst im Januar dein eigenes Kostüm machen und Deko für die Treff-Party am 1. Februar basteln. 7. bis 16. Januar: Mach deine eigene Verkleidung 19. bis 30. Januar: Wir schneiden\, basteln und kleben Öffnungszeit: Montag bis Freitag\, 13.30 Uhr bis 18 Uhr Die Angebote sind kostenfrei und inklusiv\, für Mädchen von 10 bis 27 Jahren. Im Treff kannst du außerdem: spielen\, kickern\, Freund*innen treffen\, gamen\, Hausaufgaben machen und vieles mehr.  Link zur Veranstaltung: https://youpod.de/youevent/karnevalskostuem-und-party-deko-machen-im-maedchentreff/
LOCATION:Corneliusstraße 59\, 40215 Düsseldorf
END:VEVENT
BEGIN:VEVENT
UID:69e767fe9fb96@youpod
DTSTAMP:20260421T120518Z
DTSTART:20260112T133000
DTEND:20260112T143000
SUMMARY:Karnevalskostüm und Party-Deko machen im Mädchentreff
DESCRIPTION:Im Mädchentreff Leyla bereitest du dich auf Karneval vor. Du kannst im Januar dein eigenes Kostüm machen und Deko für die Treff-Party am 1. Februar basteln. 7. bis 16. Januar: Mach deine eigene Verkleidung 19. bis 30. Januar: Wir schneiden\, basteln und kleben Öffnungszeit: Montag bis Freitag\, 13.30 Uhr bis 18 Uhr Die Angebote sind kostenfrei und inklusiv\, für Mädchen von 10 bis 27 Jahren. Im Treff kannst du außerdem: spielen\, kickern\, Freund*innen treffen\, gamen\, Hausaufgaben machen und vieles mehr.  Link zur Veranstaltung: https://youpod.de/youevent/karnevalskostuem-und-party-deko-machen-im-maedchentreff/
LOCATION:Corneliusstraße 59\, 40215 Düsseldorf
END:VEVENT
BEGIN:VEVENT
UID:69e767fe9fb9c@youpod
DTSTAMP:20260421T120518Z
DTSTART:20260113T133000
DTEND:20260113T143000
SUMMARY:Karnevalskostüm und Party-Deko machen im Mädchentreff
DESCRIPTION:Im Mädchentreff Leyla bereitest du dich auf Karneval vor. Du kannst im Januar dein eigenes Kostüm machen und Deko für die Treff-Party am 1. Februar basteln. 7. bis 16. Januar: Mach deine eigene Verkleidung 19. bis 30. Januar: Wir schneiden\, basteln und kleben Öffnungszeit: Montag bis Freitag\, 13.30 Uhr bis 18 Uhr Die Angebote sind kostenfrei und inklusiv\, für Mädchen von 10 bis 27 Jahren. Im Treff kannst du außerdem: spielen\, kickern\, Freund*innen treffen\, gamen\, Hausaufgaben machen und vieles mehr.  Link zur Veranstaltung: https://youpod.de/youevent/karnevalskostuem-und-party-deko-machen-im-maedchentreff/
LOCATION:Corneliusstraße 59\, 40215 Düsseldorf
END:VEVENT
BEGIN:VEVENT
UID:69e767fe9fba2@youpod
DTSTAMP:20260421T120518Z
DTSTART:20260114T133000
DTEND:20260114T143000
SUMMARY:Karnevalskostüm und Party-Deko machen im Mädchentreff
DESCRIPTION:Im Mädchentreff Leyla bereitest du dich auf Karneval vor. Du kannst im Januar dein eigenes Kostüm machen und Deko für die Treff-Party am 1. Februar basteln. 7. bis 16. Januar: Mach deine eigene Verkleidung 19. bis 30. Januar: Wir schneiden\, basteln und kleben Öffnungszeit: Montag bis Freitag\, 13.30 Uhr bis 18 Uhr Die Angebote sind kostenfrei und inklusiv\, für Mädchen von 10 bis 27 Jahren. Im Treff kannst du außerdem: spielen\, kickern\, Freund*innen treffen\, gamen\, Hausaufgaben machen und vieles mehr.  Link zur Veranstaltung: https://youpod.de/youevent/karnevalskostuem-und-party-deko-machen-im-maedchentreff/
LOCATION:Corneliusstraße 59\, 40215 Düsseldorf
END:VEVENT
BEGIN:VEVENT
UID:69e767fe9fba8@youpod
DTSTAMP:20260421T120518Z
DTSTART:20260115T133000
DTEND:20260115T143000
SUMMARY:Karnevalskostüm und Party-Deko machen im Mädchentreff
DESCRIPTION:Im Mädchentreff Leyla bereitest du dich auf Karneval vor. Du kannst im Januar dein eigenes Kostüm machen und Deko für die Treff-Party am 1. Februar basteln. 7. bis 16. Januar: Mach deine eigene Verkleidung 19. bis 30. Januar: Wir schneiden\, basteln und kleben Öffnungszeit: Montag bis Freitag\, 13.30 Uhr bis 18 Uhr Die Angebote sind kostenfrei und inklusiv\, für Mädchen von 10 bis 27 Jahren. Im Treff kannst du außerdem: spielen\, kickern\, Freund*innen treffen\, gamen\, Hausaufgaben machen und vieles mehr.  Link zur Veranstaltung: https://youpod.de/youevent/karnevalskostuem-und-party-deko-machen-im-maedchentreff/
LOCATION:Corneliusstraße 59\, 40215 Düsseldorf
END:VEVENT
END:VCALENDAR
