BEGIN:VCALENDAR
VERSION:2.0
PRODID:-//youpod//EN
BEGIN:VEVENT
UID:69e73ac6031d5@youpod
DTSTAMP:20260421T085222Z
DTSTART:20260301T235900
DTEND:20260302T005900
SUMMARY:Einsendeschluss: Kurzfilmwettbewerb DrehMOMENTE NRW
DESCRIPTION:Ab sofort und bis zum 1. März 2026 können junge Menschen aus ganz NRW ihre selbstgedrehten Filme bei der filmothek einreichen. DrehMOMENTE richtet sich an junge Filmemacher*innen – egal ob allein\, in privaten Projekten\, in Film-AGs oder als ganze Schulklasse. Auch Lehrer*innen\, Pädagog*innen und weitere Multiplikator*innen\, die mit Gruppen Kurzfilme produziert haben\, sind herzlich eingeladen\, mitzumachen. Die Filme dürfen maximal fünf Minuten lang sein\, um am Wettbewerb teilzunehmen. Die Kategorie &#8220\;DrehMOMENTE Shorts&#8221\; (Clips bis maximal 90 Sekunden) ist als Sonderpreis ausgeschrieben. Die Produktion kann mit jeder verfügbaren Technik erfolgen – ob Video-\, Foto- oder Handykamera\, Tablet oder anderen Geräten\; eine Nachbearbeitung ist möglich. Der Einsatz von KI-generierten Inhalten ist erlaubt\, muss jedoch eindeutig gekennzeichnet werden (z. B. im Abspann: „Enthält KI-generierte Inhalte“). Für die Teilnahme fallen keine Kosten oder Gebühren an. Mit der Einreichung erkennen die Teilnehmenden die gültigen Teilnahmebedingungen an. Die Produzent*innen der besten Filme können sich auf Auszeichnungen und Preise in drei Alterskategorien freuen:  KIDS: 7 bis 13 Jahre TEENS: 14 bis 17 Jahre Junge Erwachsene: 18 bis 25 Jahre  Die große Preisverleihung findet am 29. Mai 2026 im Dortmunder U statt. Eine gleichaltrige Jury entscheidet\, welche Beiträge ausgezeichnet werden. Auf die Gewinner*innen warten tolle Preise.  Link zur Veranstaltung: https://youpod.de/youevent/einsendeschluss-kurzfilmwettbewerb-drehmomente-nrw/
LOCATION:Online
END:VEVENT
END:VCALENDAR
