BEGIN:VCALENDAR
VERSION:2.0
PRODID:-//youpod//EN
BEGIN:VEVENT
UID:69e74e03e2bf3@youpod
DTSTAMP:20260421T101427Z
DTSTART:20260119T150000
DTEND:20260119T160000
SUMMARY:Nähführerschein in Benrath
DESCRIPTION:Mach deinen Nähführerschein beim Offenen Treff in Benrath.  Montags von 15 bis 18 Uhr kannst du im DIY-Café kreativ werden.  Link zur Veranstaltung: https://youpod.de/youevent/naehfuehrerschein-in-benrath/
LOCATION:An der Dankeskirche 1 \, 40597 Düsseldorf
END:VEVENT
BEGIN:VEVENT
UID:69e74e03e2c00@youpod
DTSTAMP:20260421T101427Z
DTSTART:20260126T150000
DTEND:20260126T160000
SUMMARY:Nähführerschein in Benrath
DESCRIPTION:Mach deinen Nähführerschein beim Offenen Treff in Benrath.  Montags von 15 bis 18 Uhr kannst du im DIY-Café kreativ werden.  Link zur Veranstaltung: https://youpod.de/youevent/naehfuehrerschein-in-benrath/
LOCATION:An der Dankeskirche 1 \, 40597 Düsseldorf
END:VEVENT
END:VCALENDAR
