BEGIN:VCALENDAR
VERSION:2.0
PRODID:-//youpod//EN
BEGIN:VEVENT
UID:69e737d959c79@youpod
DTSTAMP:20260421T083953Z
DTSTART:20260218T180000
DTEND:20260218T190000
SUMMARY:Demoschilder malen vor AfD-Auftritt
DESCRIPTION:Ihr könnt mitmachen am 18. Februar\, ab 18 Uhr\, beim gemeinsamen Demoschilder-Malen von Jugendring und DPSG im Haus der Jugend. Zusammen werdet ihr kreativ. Pappe und Malsachen gibt es vor Ort wir\, auch für Getränke und kleine Snacks ist gesorgt. Um welche Demo es genau geht? Am 23. Februar hält Björn Höcke bei einer Veranstaltung der AfD einen Vortrag in Garath. &#8220\;Düsseldorf stellt sich quer&#8221\; organisiert eine Gegendemonstration. Auch der Jugendring beteiligt sich an der Demo und gegen seinen Auftritt.  Link zur Veranstaltung: https://youpod.de/youevent/demoschilder-malen-vor-afd-auftritt/
LOCATION:Lacombletstraße 10\, 40239 Düsseldorf
END:VEVENT
END:VCALENDAR
