BEGIN:VCALENDAR
VERSION:2.0
PRODID:-//youpod//EN
BEGIN:VEVENT
UID:69e74df2933e5@youpod
DTSTAMP:20260421T101410Z
DTSTART:20260306T200000
DTEND:20260306T210000
SUMMARY:Fridays for Freestyles
DESCRIPTION:Das Format mit Sendungsbewusstsein feiert am 6. März als Open-Mic-Freestyle-Jam „Fridays For Freestyles“ Fortsetzung im Jugendkulturcafé Franzmann und zelebriert dabei mal ganz galant den ersten Geburtstag im Franzmann! Du schreibst und drückst in deinen Tracks aus\, was dich beschäftigt und dir fehlt nur der Sprung vor ein größeres Publikum? Dann bieten dir @Canuto und @klmnop_2020  regelmäßig bei „Fridays for Freestyles“ die Gelegenheit dazu! Bring deinen USB-Stick und Instrumentals mit und greif selbst zum Mic. Egal ob Freestyle oder fertiger – egal ob 30 Sekunden oder 3 Minuten &#8230\; hier darf fast jeder ans Mic! Anmeldungen sind bis kurz vor der Show möglich. Für die erste Jam im Jahr 2026 haben sich bereits wunderbare Artists wie @lukeundbetrugmusik \, @swanski_g und @raiderrote angekündigt&#8230\; dabei ist die Gästeliste noch längst nicht closed.  Link zur Veranstaltung: https://youpod.de/youevent/fridays-for-freestyles/
LOCATION:Ratinger Straße 20 \, 40213 Düsseldorf
END:VEVENT
END:VCALENDAR
