BEGIN:VCALENDAR
VERSION:2.0
PRODID:-//youpod//EN
BEGIN:VEVENT
UID:69ed4c6de1577@youpod
DTSTAMP:20260425T232117Z
DTSTART:20260428T170000
DTEND:20260428T180000
SUMMARY:Mädchen*abend: Craft Night
DESCRIPTION:Dienstags ist im queeren Jugendzentrum PULS* von 17 bis 21 Uhr Mädchen*abend für alle Mädchen* und junge Frauen von 14 bis 26 Jahren\, die cis*\, inter* oder trans* sind oder sich in diesem Raum wohlfühlen\, weil sie sich beispielsweise mehrheitlich weiblich identifizieren. Am 28. April gibt es eine Craft Night\, in der ihr kreativ sein könnt. Bringt gerne Vorschläge ein.  Link zur Veranstaltung: https://youpod.de/youevent/maedchenabend-craft-night/
LOCATION:Corneliusstraße 28 \, 40215 Düsseldorf
END:VEVENT
END:VCALENDAR
