BEGIN:VCALENDAR
VERSION:2.0
PRODID:-//youpod//EN
BEGIN:VEVENT
UID:69e7d7a4d3bb4@youpod
DTSTAMP:20260421T200140Z
DTSTART:20260311T160000
DTEND:20260311T170000
SUMMARY:Offener Treff in Gerresheim
DESCRIPTION:Die Düsselfalken laden 13- bis 16-Jährige jeden Mittwoch zum offenen Treff ins Falkenheim ein. In diesen offenen Treffs von 16 bis 18 Uhr darfst du machen\, wonach dir der Sinn steht: Kickern\, Billard\, Musik\, snacken\, abhängen\, quatschen. Es ist außerdem immer eine Person aus unserem Team vor Ort\, an die du dich wenden kannst. Alles ohne Anmeldung und kostenlos  Link zur Veranstaltung: https://youpod.de/youevent/offener-treff-in-gerresheim/
LOCATION:Unter den Eichen 62a\, 40625  Düsseldorf
END:VEVENT
BEGIN:VEVENT
UID:69e7d7a4d3be0@youpod
DTSTAMP:20260421T200140Z
DTSTART:20260318T160000
DTEND:20260318T170000
SUMMARY:Offener Treff in Gerresheim
DESCRIPTION:Die Düsselfalken laden 13- bis 16-Jährige jeden Mittwoch zum offenen Treff ins Falkenheim ein. In diesen offenen Treffs von 16 bis 18 Uhr darfst du machen\, wonach dir der Sinn steht: Kickern\, Billard\, Musik\, snacken\, abhängen\, quatschen. Es ist außerdem immer eine Person aus unserem Team vor Ort\, an die du dich wenden kannst. Alles ohne Anmeldung und kostenlos  Link zur Veranstaltung: https://youpod.de/youevent/offener-treff-in-gerresheim/
LOCATION:Unter den Eichen 62a\, 40625  Düsseldorf
END:VEVENT
BEGIN:VEVENT
UID:69e7d7a4d3be8@youpod
DTSTAMP:20260421T200140Z
DTSTART:20260325T160000
DTEND:20260325T170000
SUMMARY:Offener Treff in Gerresheim
DESCRIPTION:Die Düsselfalken laden 13- bis 16-Jährige jeden Mittwoch zum offenen Treff ins Falkenheim ein. In diesen offenen Treffs von 16 bis 18 Uhr darfst du machen\, wonach dir der Sinn steht: Kickern\, Billard\, Musik\, snacken\, abhängen\, quatschen. Es ist außerdem immer eine Person aus unserem Team vor Ort\, an die du dich wenden kannst. Alles ohne Anmeldung und kostenlos  Link zur Veranstaltung: https://youpod.de/youevent/offener-treff-in-gerresheim/
LOCATION:Unter den Eichen 62a\, 40625  Düsseldorf
END:VEVENT
BEGIN:VEVENT
UID:69e7d7a4d3bee@youpod
DTSTAMP:20260421T200140Z
DTSTART:20260401T160000
DTEND:20260401T170000
SUMMARY:Offener Treff in Gerresheim
DESCRIPTION:Die Düsselfalken laden 13- bis 16-Jährige jeden Mittwoch zum offenen Treff ins Falkenheim ein. In diesen offenen Treffs von 16 bis 18 Uhr darfst du machen\, wonach dir der Sinn steht: Kickern\, Billard\, Musik\, snacken\, abhängen\, quatschen. Es ist außerdem immer eine Person aus unserem Team vor Ort\, an die du dich wenden kannst. Alles ohne Anmeldung und kostenlos  Link zur Veranstaltung: https://youpod.de/youevent/offener-treff-in-gerresheim/
LOCATION:Unter den Eichen 62a\, 40625  Düsseldorf
END:VEVENT
BEGIN:VEVENT
UID:69e7d7a4d3bf4@youpod
DTSTAMP:20260421T200140Z
DTSTART:20260408T160000
DTEND:20260408T170000
SUMMARY:Offener Treff in Gerresheim
DESCRIPTION:Die Düsselfalken laden 13- bis 16-Jährige jeden Mittwoch zum offenen Treff ins Falkenheim ein. In diesen offenen Treffs von 16 bis 18 Uhr darfst du machen\, wonach dir der Sinn steht: Kickern\, Billard\, Musik\, snacken\, abhängen\, quatschen. Es ist außerdem immer eine Person aus unserem Team vor Ort\, an die du dich wenden kannst. Alles ohne Anmeldung und kostenlos  Link zur Veranstaltung: https://youpod.de/youevent/offener-treff-in-gerresheim/
LOCATION:Unter den Eichen 62a\, 40625  Düsseldorf
END:VEVENT
BEGIN:VEVENT
UID:69e7d7a4d3bf9@youpod
DTSTAMP:20260421T200140Z
DTSTART:20260415T160000
DTEND:20260415T170000
SUMMARY:Offener Treff in Gerresheim
DESCRIPTION:Die Düsselfalken laden 13- bis 16-Jährige jeden Mittwoch zum offenen Treff ins Falkenheim ein. In diesen offenen Treffs von 16 bis 18 Uhr darfst du machen\, wonach dir der Sinn steht: Kickern\, Billard\, Musik\, snacken\, abhängen\, quatschen. Es ist außerdem immer eine Person aus unserem Team vor Ort\, an die du dich wenden kannst. Alles ohne Anmeldung und kostenlos  Link zur Veranstaltung: https://youpod.de/youevent/offener-treff-in-gerresheim/
LOCATION:Unter den Eichen 62a\, 40625  Düsseldorf
END:VEVENT
BEGIN:VEVENT
UID:69e7d7a4d3bff@youpod
DTSTAMP:20260421T200140Z
DTSTART:20260422T160000
DTEND:20260422T170000
SUMMARY:Offener Treff in Gerresheim
DESCRIPTION:Die Düsselfalken laden 13- bis 16-Jährige jeden Mittwoch zum offenen Treff ins Falkenheim ein. In diesen offenen Treffs von 16 bis 18 Uhr darfst du machen\, wonach dir der Sinn steht: Kickern\, Billard\, Musik\, snacken\, abhängen\, quatschen. Es ist außerdem immer eine Person aus unserem Team vor Ort\, an die du dich wenden kannst. Alles ohne Anmeldung und kostenlos  Link zur Veranstaltung: https://youpod.de/youevent/offener-treff-in-gerresheim/
LOCATION:Unter den Eichen 62a\, 40625  Düsseldorf
END:VEVENT
BEGIN:VEVENT
UID:69e7d7a4d3c04@youpod
DTSTAMP:20260421T200140Z
DTSTART:20260429T160000
DTEND:20260429T170000
SUMMARY:Offener Treff in Gerresheim
DESCRIPTION:Die Düsselfalken laden 13- bis 16-Jährige jeden Mittwoch zum offenen Treff ins Falkenheim ein. In diesen offenen Treffs von 16 bis 18 Uhr darfst du machen\, wonach dir der Sinn steht: Kickern\, Billard\, Musik\, snacken\, abhängen\, quatschen. Es ist außerdem immer eine Person aus unserem Team vor Ort\, an die du dich wenden kannst. Alles ohne Anmeldung und kostenlos  Link zur Veranstaltung: https://youpod.de/youevent/offener-treff-in-gerresheim/
LOCATION:Unter den Eichen 62a\, 40625  Düsseldorf
END:VEVENT
BEGIN:VEVENT
UID:69e7d7a4d3c09@youpod
DTSTAMP:20260421T200140Z
DTSTART:20260506T160000
DTEND:20260506T170000
SUMMARY:Offener Treff in Gerresheim
DESCRIPTION:Die Düsselfalken laden 13- bis 16-Jährige jeden Mittwoch zum offenen Treff ins Falkenheim ein. In diesen offenen Treffs von 16 bis 18 Uhr darfst du machen\, wonach dir der Sinn steht: Kickern\, Billard\, Musik\, snacken\, abhängen\, quatschen. Es ist außerdem immer eine Person aus unserem Team vor Ort\, an die du dich wenden kannst. Alles ohne Anmeldung und kostenlos  Link zur Veranstaltung: https://youpod.de/youevent/offener-treff-in-gerresheim/
LOCATION:Unter den Eichen 62a\, 40625  Düsseldorf
END:VEVENT
BEGIN:VEVENT
UID:69e7d7a4d3c0f@youpod
DTSTAMP:20260421T200140Z
DTSTART:20260513T160000
DTEND:20260513T170000
SUMMARY:Offener Treff in Gerresheim
DESCRIPTION:Die Düsselfalken laden 13- bis 16-Jährige jeden Mittwoch zum offenen Treff ins Falkenheim ein. In diesen offenen Treffs von 16 bis 18 Uhr darfst du machen\, wonach dir der Sinn steht: Kickern\, Billard\, Musik\, snacken\, abhängen\, quatschen. Es ist außerdem immer eine Person aus unserem Team vor Ort\, an die du dich wenden kannst. Alles ohne Anmeldung und kostenlos  Link zur Veranstaltung: https://youpod.de/youevent/offener-treff-in-gerresheim/
LOCATION:Unter den Eichen 62a\, 40625  Düsseldorf
END:VEVENT
BEGIN:VEVENT
UID:69e7d7a4d3c14@youpod
DTSTAMP:20260421T200140Z
DTSTART:20260520T160000
DTEND:20260520T170000
SUMMARY:Offener Treff in Gerresheim
DESCRIPTION:Die Düsselfalken laden 13- bis 16-Jährige jeden Mittwoch zum offenen Treff ins Falkenheim ein. In diesen offenen Treffs von 16 bis 18 Uhr darfst du machen\, wonach dir der Sinn steht: Kickern\, Billard\, Musik\, snacken\, abhängen\, quatschen. Es ist außerdem immer eine Person aus unserem Team vor Ort\, an die du dich wenden kannst. Alles ohne Anmeldung und kostenlos  Link zur Veranstaltung: https://youpod.de/youevent/offener-treff-in-gerresheim/
LOCATION:Unter den Eichen 62a\, 40625  Düsseldorf
END:VEVENT
END:VCALENDAR
