BEGIN:VCALENDAR
VERSION:2.0
PRODID:-//youpod//EN
BEGIN:VEVENT
UID:69e76602c92f9@youpod
DTSTAMP:20260421T115650Z
DTSTART:20260506T183000
DTEND:20260506T193000
SUMMARY:Recht und Aufsichtspflicht in der Jugendarbeit
DESCRIPTION:Ihr bietet Ferienfreizeiten\, Aktionen und Gruppenstunden für Kinder und Jugendliche an und wollt auf der sicheren Seite sein? Dann seid ihr bei dieser Schulung genau richtig. Wir gehen mit euch die wichtigsten Fragestellungen zu den Themen Jugendschutz\, Aufsichtspflicht\, Haftung und Datenschutz in der Jugendarbeit ein und behandeln auch eure Fragen aus der Praxis. Am Ende habt ihr einen guten Überblick darüber\, was man als Gruppenleiter*in alles beachten muss und wo eure Rechte und Pflichten in eurem Ehrenamt liegen. Diese Schulung bietet euch einen Einstieg in das Thema\, kann aber auch als Auffrischung genutzt werden. Referent: Christian Jasper\, Stadtjugendseelsorger\, Kaplan &amp\; Jurist Zeit &amp\; Ort: Mittwoch\, 6. Mai\, 18.30 bis 21.30 Uhr. Jugendpastorales Zentrum – die botschaft\, Schloßufer 3\, 40213\, Düsseldorf. Teilnahme: Kostenlos Anmeldung: Online unter bdkjdus.de/anmeldungen oder per Mail an info@bdkjdus.de Veranstalter: BDKJ Düsseldorf  Link zur Veranstaltung: https://youpod.de/youevent/recht-und-aufsichtspflicht-in-der-jugendarbeit-3/
LOCATION:Schloßufer 3 \, 40213 Düsseldorf
END:VEVENT
END:VCALENDAR
