BEGIN:VCALENDAR
VERSION:2.0
PRODID:-//youpod//EN
BEGIN:VEVENT
UID:69e7afec951f2@youpod
DTSTAMP:20260421T171212Z
DTSTART:20260605T180000
DTEND:20260605T190000
SUMMARY:This memes war?!
DESCRIPTION:Was haben ein zerknitterter Frosch (Pepe) und eine wehmütige Cartoon-Figur (Wojak) miteinander gemein? Sie sind unfreiwillige Kämpfer in einem Kulturkrieg. Eine demokratiefeindliche extreme Rechte mit intellektuellem Anspruch strebt mittels Memes nach der Herrschaft über Deutungen und Definitionen. Schnell zusammengefügt\, vergiften die auf Humor setzenden Netzartefakte Debatten und schwächen die demokratische Kultur. In unserem interaktiven Workshop gehen wir der Sache gemeinsam auf den Grund und sprechen über Gegenstrategien. Zeit &amp\; Ort: Freitag\, 5. Juni\, 18 bis 20 Uhr. Falkenheim Gerresheim\, Unter den Eichen 62a\, 40625\, Düsseldorf. Teilnahme: Kostenlos Anmeldung: www.duesselfalken.de Veranstalter: SJD – Die Falken\, KV Düsseldorf  Link zur Veranstaltung: https://youpod.de/youevent/this-memes-war/
LOCATION:Unter den Eichen 62a\, 40625  Düsseldorf
END:VEVENT
END:VCALENDAR
