BEGIN:VCALENDAR
VERSION:2.0
PRODID:-//youpod//EN
BEGIN:VEVENT
UID:69e9fb4b7ca4b@youpod
DTSTAMP:20260423T105819Z
DTSTART:20260708T180000
DTEND:20260708T190000
SUMMARY:Experimentell!
DESCRIPTION:Neugierig? Experimentierfreudig? Dann seid ihr hier genau richtig! Bei uns geht’s ums Forschen – mit Experimenten\, die knallen\, blubbern und überraschen. Egal ob Chemie\, Physik oder Biologie: Hier wird ausprobiert\, entdeckt und gestaunt. Hier lernst du spannende\, einfache und sichere Experimente kennen\, die du später selbst mit Kindern durchführen kannst. Kommt vorbei\, probiert euch aus und entdeckt mit uns\, wie viel Spaß Wissenschaft machen kann – nicht nur beim Zuschauen\, sondern beim Selberausprobieren und Weitergeben! Zeit &amp\; Ort: Mittwoch\, 8. Juli\, 18 bis 20.30 Uhr ejd-Campus\, Kruppstraße 9-15\, 40227 Düsseldorf Teilnahme: kostenlos Anmeldung: bis zum 30. Juni online unter www.jugend-ehrenamt.evdus.de Veranstalter: evangelische jugend düsseldorf  Link zur Veranstaltung: https://youpod.de/youevent/experimentell/
LOCATION:ejd-Campus\, Kruppstraße 9-15\, 40227 Düsseldorf
END:VEVENT
END:VCALENDAR
