BEGIN:VCALENDAR
VERSION:2.0
PRODID:-//youpod//EN
BEGIN:VEVENT
UID:69e901cdbe055@youpod
DTSTAMP:20260422T171349Z
DTSTART:20260323T150000
DTEND:20260323T160000
SUMMARY:Boxen in Oberkassel
DESCRIPTION:Im Jugendtreff Rondell kannst du am Montag\, 23. März\, Boxen. Das Rondell hat Montag bis Freitag von 12.30 bis 18 Uhr geöffnet.  Link zur Veranstaltung: https://youpod.de/youevent/boxen-in-oberkassel/
LOCATION:Lewitstraße 2\, 40547 Düsseldorf
END:VEVENT
END:VCALENDAR
