BEGIN:VCALENDAR
VERSION:2.0
PRODID:-//youpod//EN
BEGIN:VEVENT
UID:69eceb4eb926b@youpod
DTSTAMP:20260425T162654Z
DTSTART:20260324T160000
DTEND:20260324T170000
SUMMARY:Gaming: FLINTA*GG
DESCRIPTION:Jeden Dienstag öffnet das E-Sport-Jugendzentrum GG ausschließlich für Frauen\, Lesben\, intersexuelle\, nicht-binäre\, trans und agender Personen. Jedes Mal gibt es von 16 bis 19 Uhr ein spannendes Angebot\, an dem du teilnehmen kannst.  Link zur Veranstaltung: https://youpod.de/youevent/girls-gaming-day-im-gg/
LOCATION:Akademiestraße 5\, 40213 Düsseldorf
END:VEVENT
END:VCALENDAR
