BEGIN:VCALENDAR
VERSION:2.0
PRODID:-//youpod//EN
BEGIN:VEVENT
UID:69ecd29a2b3fe@youpod
DTSTAMP:20260425T144130Z
DTSTART:20261031T180000
DTEND:20261031T190000
SUMMARY:TIN* Schwimmen in der Münster-Therme
DESCRIPTION:Beim TIN*-Schwimmen von 18 bis 20 Uhr ist die Münster-Therme in Düsseldorf nur für die PULSis geöffnet. Alle trans*\, inter* und/oder nicht-binären Personen sind eingeladen. Das Angebot wird von einem Awareness-Team begleitet\, das selbst aus trans* Personen besteht. Der Eintritt beträgt 3 Euro. Es gibt keine Altersbegrenzung für das Angebot. Das Angebot findet in Kooperation mit den Düsseldorf Dolphins der Transberatung  und Schlau statt. Mehr Infos und das Schutzkonzept unter: www.puls-duesseldorf.de/awareness-konzept/  Link zur Veranstaltung: https://youpod.de/youevent/trans-und-inter-schwimmen-in-der-muenster-therme/
LOCATION:Münsterstraße 13 \, 40477 Düsseldorf
END:VEVENT
END:VCALENDAR
