BEGIN:VCALENDAR
VERSION:2.0
PRODID:-//youpod//EN
BEGIN:VEVENT
UID:69e738dbd2e65@youpod
DTSTAMP:20260421T084411Z
DTSTART:20240913T160000
DTEND:20240913T170000
SUMMARY:Kleidertauschparty
DESCRIPTION:Fast-Fashion war gestern! Der BDKJ und youngcaritas laden zur Kleidertauschparty in der botschaft ein.  Bring bis zu zehn gut erhaltene\, saubere Kleidungsstücke mit und tausche sie vor Ort. Freu dich auf gute Musik\, Snacks\, Getränke und DIY-Angebote wie Siebdruck und Sticken\, um deine Teile zu pimpen. Du willst nachaltig mitshoppen\, dann melde dich an. Fr. 13. September // 16 bis 19 Uhr die botschaft\, D-Altstadt Anmeldung hier!  Link zur Veranstaltung: https://youpod.de/youevent/kleidertauschparty-2/
LOCATION:Schloßufer 3 \, 40213 Düsseldorf
END:VEVENT
END:VCALENDAR
