BEGIN:VCALENDAR
VERSION:2.0
PRODID:-//youpod//EN
BEGIN:VEVENT
UID:69e74eaa45915@youpod
DTSTAMP:20260421T101714Z
DTSTART:20240522T100000
DTEND:20240522T110000
SUMMARY:Anmeldungen für Ferienprogramm &#8220\;Adventure School&#8221\; ab 22. Mai
DESCRIPTION:Roboter bauen\, Wasserstoff mit Sonne und Wind herstellen\, mit KI die Umwelt erforschen: Das Sommerferienprogramm &#8220\;Adventure School&#8221\; für Schüler*innen geht in die nächste Runde. Interessierte können sich ab Mittwoch\, 22. Mai\, online unter portal-adventure-school.de&nbsp\;anmelden und bereits jetzt über das Angebot informieren. Die Plätze werden vom 6. Juni bis 9. Juni durch das System automatisch verlost. Ab Montag\, 10. Juni\, erfahren Eltern\, ob und für welche Kurse sie einen Platz erhalten haben. Ab diesem Zeitpunkt können zudem alle noch zur Verfügung stehende Kurse direkt über das Portal gebucht werden. In diesem Jahr liegt der Schwerpunkt der Workshops auf den Themen &#8220\;Umwelt und Nachhaltigkeit&#8221\;: Düsseldorfer Schüler*innen aller Klassenstufen können sich auf abwechslungsreiche MINT-Kurse und zahlreiche kreative Angebote aus den Bereichen Kunst und Kultur freuen. Die &#8220\;Adventure School&#8221\; ist ein Kooperationsprojekt des Amtes für Schule und Bildung mit zahlreichen engagierten Partnern\, das seit 2020 besteht. Weitere Informationen zur Adventure School 2024 sind unter www.adventure-school.de zu finden.  Link zur Veranstaltung: https://youpod.de/youevent/anmeldungen-fuer-ferienprogramm-adventure-school-ab-22-mai/
LOCATION:Düsseldorf
END:VEVENT
END:VCALENDAR
