BEGIN:VCALENDAR
VERSION:2.0
PRODID:-//youpod//EN
BEGIN:VEVENT
UID:69e73907d5545@youpod
DTSTAMP:20260421T084455Z
DTSTART:20231218T150000
DTEND:20231218T160000
SUMMARY:Berufsberatung für Jugendliche und Eltern
DESCRIPTION:Die Bundesagentur für Arbeit berät am Montag\, 18. Dezember\, 15 bis 18 Uhr\, in der Zentralbibliothek im KAP1\, Konrad-Adenauer-Platz 1\, Jugendliche und ihre Eltern zu folgenden Themen: •&nbsp\; &nbsp\;Wie kann es nach der Schule weitergehen? •&nbsp\; &nbsp\;Ausbildung\, weiterführende Schule\, Studium. •&nbsp\; &nbsp\;Welcher Beruf passt zu Dir/ihrem Nachwuchs? •&nbsp\; &nbsp\;Wie können Eltern ihre Kinder im vielfältigen Dschungel der Berufsorientierung bestmöglich unterstützen? Der Eintritt ist frei. Eine Anmeldung ist nicht erforderlich.  Link zur Veranstaltung: https://youpod.de/youevent/berufsberatung-fuer-jugendliche-und-eltern/
LOCATION:Konrad-Adenauer-Platz 1\, 40210 Düsseldorf
END:VEVENT
END:VCALENDAR
