BEGIN:VCALENDAR
VERSION:2.0
PRODID:-//youpod//EN
BEGIN:VEVENT
UID:69e79fd62e114@youpod
DTSTAMP:20260421T160334Z
DTSTART:20200701T110000
DTEND:20200701T120000
SUMMARY:Rap\, was du sagen willst!
DESCRIPTION:Dein Sommerferienprogramm in Gerresheim bei den Düsselfalken: Musik-Workshop &#8220\;Rap\, was du sagen willst!&#8221\; Wir alle haben etwas zu sagen. Eine Möglichkeit\, uns auszudrücken\, ist Musik. Gerade in der Rap-Musik kommt es darauf an was wir zu erzählen haben. Doch wie kommt ein Song zustande? Wie schreibe ich einen guten Text? Woher kommen die Beats? Worauf kommt es beim rappen an? Drei Tage lang könnt ihr euch damit beschäftigen und gemeinsam einen Song produzieren. Die Teilnahme an diesem Angebot ist kostenlos. Für alle ab 15 Jahren! Bei Interesse schreibt eine E-Mail an anmeldung@duesselfalken.de oder eine PN auf Instagram.  Termine für euch trotz CoronaInfos\, Tipps und Links zum Corona-Virus  Link zur Veranstaltung: https://youpod.de/youevent/rap-was-du-sagen-willst/
END:VEVENT
END:VCALENDAR
