BEGIN:VCALENDAR
VERSION:2.0
PRODID:-//youpod//EN
BEGIN:VEVENT
UID:69e7390bc9456@youpod
DTSTAMP:20260421T084459Z
DTSTART:20250721T150000
DTEND:20250721T160000
SUMMARY:Berufsberatung für Jugendliche und Eltern in der Zentralbibliothek
DESCRIPTION:Die Bundesagentur für Arbeit bietet jeden dritten Montag im Monat eine Beratung für Jugendliche und Eltern in der Zentralbibliothek\, Konrad-Adenauer-Platz 1\, an. Der nächste Termin ist am Montag\, 21. Juli\, in der Zeit von 15 bis 18 Uhr. Im Rahmen dieses Angebotes kann unter anderem über die folgenden Fragen gesprochen werden:  Wie kann es nach der Schule weitergehen? Weiterführende Schule\, Ausbildung oder Studium? Welcher Beruf ist der passende?  Der Eintritt zur Beratung ist frei. Eine Anmeldung ist nicht erforderlich. &nbsp\;  Link zur Veranstaltung: https://youpod.de/youevent/berufsberatung-fuer-jugendliche-und-eltern-in-der-zentralbibliothek/
LOCATION:Konrad-Adenauer-Platz 1\, 40210 Düsseldorf
END:VEVENT
END:VCALENDAR
