BEGIN:VCALENDAR
VERSION:2.0
PRODID:-//youpod//EN
BEGIN:VEVENT
UID:69e901203c315@youpod
DTSTAMP:20260422T171056Z
DTSTART:20200213T150000
DTEND:20200213T160000
SUMMARY:Das LVR-Berufskolleg informiert über Ausbildungsgänge für das Schuljahr 2020/21
DESCRIPTION:Du interessierst dich für eine Beschäftigung im sozialen Bereich? Dann solltest du beim Informationstag des LVR-Berufskolleg (Fachschule des Sozialwesens) in Düsseldorf vorbeischauen. Dieser findet am 13. Februar von 15 bis 18 Uhr statt.     Ihr könnt euch sogar vor Ort mit euren Unterlagen für die Fachrichtungen Sozialpädagogik\, Heilerziehungspflege und Heilpädagogik bewerben. Von Lehrkräften werdet ihr über mögliche Vertiefungsbereiche\, Ausbildungsschwerpunkte und Weiterbildungsmöglichkeiten und den offenen Ganztag aufgeklärt. Damit ihr die Schule besser kennenlernt\, wird jede halbe Stunde ein Rundgang angeboten.  Neugierig geworden? Mehr Informationen gibt’s unter: www.berufskolleg.lvr.de . Der Landschaftsverband Rheinland (LVR)\, dem die Schule angehört\, ist ein Kommunalverband mit rund 19.000 Beschäftigten\, die sich um mehr als 9\,7 Millionen Menschen im Rheinland kümmern. Dem Verband gehören circa 41 Schulen\, 10 Kliniken\, 20 Museen und Kultureinrichtungen\, 4 Jugendhilfeeinrichtungen\, das Landesjugendamt und der Verbund Heilpädagogischer Hilfen an. Rheinlandweit engagiert er sich für Menschen mit Behinderungen und Inklusion in allen Lebensbereichen. Der Leitgedanke „Qualität für Menschen“ steht immer im Vordergrund.  Link zur Veranstaltung: https://youpod.de/youevent/das-lvr-berufskolleg-informiert-ueber-ausbildungsgaenge-fuer-das-schuljahr-2020-21/
LOCATION:Am Großen Dern 10 40625 Düsseldorf
END:VEVENT
END:VCALENDAR
