BEGIN:VCALENDAR
VERSION:2.0
PRODID:-//youpod//EN
BEGIN:VEVENT
UID:69e74ecd1a4d3@youpod
DTSTAMP:20260421T101749Z
DTSTART:20241105T180000
DTEND:20241105T190000
SUMMARY:Achtsam sein – Awareness in der Jugendarbeit
DESCRIPTION:Jugendarbeit soll Kindern und Jugendlichen Spaß\, Gemeinschaft und Mitbestimmung bieten. Doch leider kommt es immer wieder zu Grenzverletzungen\, Diskriminierungen oder Übergriffen. Das &#8220\;Awareness&#8221\;-Konzept setzt sich gegen jede Form von Gewalt ein und fördert einen achtsamen Umgang miteinander.Wir zeigen\, wie Awareness auch in kleineren Kontexten wie Gruppenstunden oder Ferienfahrten umgesetzt werden kann\, stellen Handlungsmöglichkeiten und Methoden vor und fördern den Erfahrungsaustausch. So schaffen wir gemeinsam safer spaces\, in denen sich alle wohlfühlen und Spaß haben. Anmeldung hier!   Link zur Veranstaltung: https://youpod.de/youevent/achtsam-sein-awareness-in-der-jugendarbeit/
LOCATION:Schloßufer 3 \, 40213 Düsseldorf
END:VEVENT
END:VCALENDAR
