BEGIN:VCALENDAR
VERSION:2.0
PRODID:-//youpod//EN
BEGIN:VEVENT
UID:69e76501ceacf@youpod
DTSTAMP:20260421T115233Z
DTSTART:20240910T180000
DTEND:20240910T190000
SUMMARY:Prävention Vertiefungsschulung
DESCRIPTION:Um die Nachhaltigkeit des Themas &#8220\;Prävention sexualisierter Gewalt&#8221\; sicherzustellen bieten wir im Sinne der Präventionsordnung Vertiefungs- und Auffrischungsveranstaltungen zu verschiedenen Themen an.  Damit möchten wir eine Grundlage für eine Auffrischung von Fachwissen und eine  offene Kommunikationskultur geben. Ziel ist dabei immer eine grenzachtende Beziehungsgestaltung mit Kindern und Jugendlichen und untereinander zu ermöglichen und sensibel für Gefährdungssituationen zu bleiben.  Thema der Schulung: &#8220\;Nähe und Distanz\, Cybergrooming&#8221\; Die Schulung findet online statt. Anmeldung hier! Di. 10. September // 18 bis 21 Uhr (online)  Link zur Veranstaltung: https://youpod.de/youevent/praevention-vertiefungsschulung/
END:VEVENT
END:VCALENDAR
