BEGIN:VCALENDAR
VERSION:2.0
PRODID:-//youpod//EN
BEGIN:VEVENT
UID:69e780b7e6f53@youpod
DTSTAMP:20260421T135047Z
DTSTART:20260326T160000
DTEND:20260326T170000
SUMMARY:Fußball in Unterrath
DESCRIPTION:Hier kannst du für die Düssel-Youth-League trainieren. Das Fußball-Training findet donnerstags\, 16 bis 19 Uhr\, beim Jugendclub Ammerweg statt.  Link zur Veranstaltung: https://youpod.de/youevent/fussball-in-unterrath/
LOCATION:Ammerweg 14-16\, 40468 Düsseldorf
END:VEVENT
END:VCALENDAR
