BEGIN:VCALENDAR
VERSION:2.0
PRODID:-//youpod//EN
BEGIN:VEVENT
UID:69ecc603aee07@youpod
DTSTAMP:20260425T134747Z
DTSTART:20220813T201000
DTEND:20220813T211000
SUMMARY:Hoflicht – Das Open-Air-Kino im urbanen Flair
DESCRIPTION:Der Innenhof der Adventgemeinde Düsseldorf verwandelt sich an ausgewählten Sommerabenden in ein gemütliches Open-Air-Kino. Gezeigt werden Filme mit guter Botschaft\, häufig beruhend auf wahren Begebenheiten. Auf Strandliegestühlen kannst du leckere Snacks und alkoholfreie Cocktails genießen. Am 13. August&nbsp\;flackert der Film &#8220\;Captive&#8221\; über die Leinwand. Basierend auf einer wahren Geschichte voller Wunder über die Macht des Glaubens\, ist Captive ein fantastisches\, inspirierendes Drama\, in dem zwei verlorene Seelen spirituell aufeinandertreffen. Wer gerne neue Leute kennenlernen möchte\, ist hier genau richtig. Natürlich kannst du auch deine Freunde mitbringen. Der Eintritt ist frei! Der Einlass beginnt ab 20.10 Uhr\, Filmstart ist um 20.30 Uhr. Hier findet du weitere Informationen.  Link zur Veranstaltung: https://youpod.de/youevent/hoflicht-das-open-air-kino-im-urbanen-flair/
LOCATION:Stockkampstraße 32 40477 Düsseldorf
END:VEVENT
END:VCALENDAR
