BEGIN:VCALENDAR
VERSION:2.0
PRODID:-//youpod//EN
BEGIN:VEVENT
UID:69e738b71bd8f@youpod
DTSTAMP:20260421T084335Z
DTSTART:20230907T100000
DTEND:20230907T110000
SUMMARY:Berufsberatung in Innenstadt und Jugendtreffs
DESCRIPTION:Die Berufsberatung der Arbeitsagentur ist auf Tour. Von Juni bis Mitte September kannst du Berufsberater*innen in Innenstädten und Jugendcafés treffen.&nbsp\; Jugendliche und Eltern erhalten dort Tipps zu Ausbildung\, Studium\, Praktikum und Gap-Year. DU kannst ohne Anmeldung zu den Stationen in Düsseldorf und Kreis Mettmann kommen und dich direkt beraten lassen. Auch die Eltern sind herzlich willkommen. Es sind noch rund 3200 Ausbildungsstellen in 300 verschiedenen Ausbildungsberufen in Düsseldorf und im Kreis Mettmann frei\, erklärte die Arbeitsagentur. Aber Jugendliche können sich auf der Tour auch über die Ausbildung und das duale Studium informieren.  Tour-Daten in Düsseldorf 20.06.2023\, 10 bis 14 Uhr\, Schule vorbei – was kommt jetzt? Beratungstag in der Agentur für Arbeit Düsseldorf\, Grafenberger Allee 300 22.06.2023\, 17 bis 18:45 Uhr\, Wege nach der Schule – was tun? Infoveranstaltung in der Agentur für Arbeit Düsseldorf\, Grafenberger Allee 300&nbsp\; 24.06.2023\, 12 bis 16 Uhr\, IHK und Berufsberatung on tour: Ausbildung für dich! in der Innenstadt\, Schadowplatz 1&nbsp\; 28.06.2023\, 12 bis 16 Uhr\, IHK und Berufsberatung on tour: Ausbildung für dich! in der Innenstadt\, Schadowplatz 1&nbsp\; 17.07.2023\, 15 bis 18 Uhr\, Berufsberatung in der Zentralbibliothek\, KonradAdenauer-Platz 1&nbsp\; 03.08.2023\, 10 bis 14 Uhr\, JUMPSTART – dein Sprung in die Ausbildung\, in der Agentur für Arbeit Düsseldorf\, Grafenberger Allee 300&nbsp\; 16.08.2023\, 12 bis 16 Uhr\, IHK und Berufsberatung on tour: Ausbildung für dich! in der Innenstadt\, Schadowstraße 100\, Düsseldorf&nbsp\; 21.08.2023\, 14:45 bis 18 Uhr\, Berufsberatung in der Zentralbibliothek\, Konrad-Adenauer-Platz 1&nbsp\; 07.09.2023\, 10 bis 17:30 Uhr\, Berufsberatung beim Karrieretag Düsseldorf\, Areal Böhler\, Hansaallee 321&nbsp\; 17.09.2023\, 10 bis 16 Uhr\, Berufsberatung auf der Stuzubi Düsseldorf\, Mitsubishi Electric Halle\, Siegburger Straße 15&nbsp\; Tour-Daten im Kreis Mettmann&nbsp\; 22.06.2023\, 14:30 bis 17 Uhr\, Berufsberatung in der Villa B in Velbert\, Höferstr. 37&nbsp\; 27.06.2023\, 15 bis 18 Uhr\, Berufsberatung im Jugendcafé in Erkrath\, Bahnstr. 4&nbsp\; 29.06.2023\, 13:30 bis 16 Uhr\, Berufsberatung im Skatepark Erkrath\, Sedentaler Str. 112&nbsp\; 29.06.2023\, 15:30 bis 18 Uhr\, Berufsberatung im Jugendzentrum im BiLo in Velbert\, Von-Humboldt-Str. 53&nbsp\; 29.06.2023\, 14 bis 16:30 Uhr\, Berufsberatung bei der Jugendberufshilfe Haan\, Alleestr. 6&nbsp\; 04.07.2023\, 9 bis 12 Uhr\, How to – Bewerbungsunterlagen\, in der Agentur für Arbeit\, BiZ&nbsp\; 04.07.2023\, 15 bis 18 Uhr\, Berufsberatung bei der Jugendberufshilfe Mettmann\, Bismarckstraße 39&nbsp\; 05.07.2023\, 12 bis 16 Uhr\, IHK und Berufsberatung on tour: Ausbildung für dich! In der Innenstadt Velbert\, Am Offers – Nähe alte Kirche&nbsp\; 06.07.2023\, 17 bis 19 Uhr\, Berufsberatung im Jugendhaus Kostenberg in Velbert\, Bartelskamp 56&nbsp\; 12.07.2023\, 11 bis 15 Uhr\, Ausbildung4U – Aus den Ferien in die Ausbildung in Velbert\, Kundencenter Jobcenter\, Heiligenhauser Straße 6&nbsp\; 12.07.2023\, 12 bis 16 Uhr\, IHK und Berufsberatung on tour: Ausbildung für dich! In der Innenstadt in Ratingen 19.07.2023\, 11 bis 15 Uhr\, Ausbildung4U – Aus den Ferien in die Ausbildung in Hilden\, Kundencenter Jobcenter\, Hochdahler Straße 14&nbsp\; 19.07.2023\, 12 bis 16 Uhr\, IHK und Berufsberatung on tour: Ausbildung für dich! In der Innenstadt Mettmann&nbsp\; 26.07.2023\, 12 bis 16 Uhr\, IHK und Berufsberatung on tour: Ausbildung für dich! In der Innenstadt Langenfeld&nbsp\; 27.07.2023\, 14 bis 17 Uhr\, Berufsberatung im Jugendzentrum Neviges\, Lessingstr. 12-14&nbsp\; 27.07.2023\, 10 bis 15 Uhr\, Workshop Einstellungstest und Assessment Center in Mettmann\, in der Agentur für Arbeit\, BiZ&nbsp\; 03.08.2023\, 11 bis 15 Uhr\, Ausbildung4U – Aus den Ferien in die Ausbildung in Mettmann\, in der Agentur für Arbeit\, BiZ&nbsp\; 03.08.2023\, 16 bis 18 Uhr\, Berufsberatung im Jugendzentrum Langenberg\, Vogteier Straße 6&nbsp\; 09.08.2023\, 12 bis 16 Uhr\, IHK und Berufsberatung on tour: Ausbildung für dich! In der Innenstadt Velbert\, Am Offers – Nähe alte Kirche&nbsp\; Persönliche individuelle Beratung für Jugendliche und Arbeitgeber&nbsp\; Berufs- und Studienberatung: 0800-4 55 55 00&nbsp\; Weitere Infos rund um Ausbildungssuche\, Berufswahl und Online Angebote der Berufsberatung: www.arbeitsagentur.de/bildung  Link zur Veranstaltung: https://youpod.de/youevent/berufsberatung-in-innenstadt-und-jugendtreffs/
LOCATION:Grafenberger Allee 300\, 40237 Düsseldorf
END:VEVENT
BEGIN:VEVENT
UID:69e738b71bda6@youpod
DTSTAMP:20260421T084335Z
DTSTART:20230907T100000
DTEND:20230907T110000
SUMMARY:Berufsberatung in Innenstadt und Jugendtreffs
DESCRIPTION:Die Berufsberatung der Arbeitsagentur ist auf Tour. Von Juni bis Mitte September kannst du Berufsberater*innen in Innenstädten und Jugendcafés treffen.&nbsp\; Jugendliche und Eltern erhalten dort Tipps zu Ausbildung\, Studium\, Praktikum und Gap-Year. DU kannst ohne Anmeldung zu den Stationen in Düsseldorf und Kreis Mettmann kommen und dich direkt beraten lassen. Auch die Eltern sind herzlich willkommen. Es sind noch rund 3200 Ausbildungsstellen in 300 verschiedenen Ausbildungsberufen in Düsseldorf und im Kreis Mettmann frei\, erklärte die Arbeitsagentur. Aber Jugendliche können sich auf der Tour auch über die Ausbildung und das duale Studium informieren.  Tour-Daten in Düsseldorf 20.06.2023\, 10 bis 14 Uhr\, Schule vorbei – was kommt jetzt? Beratungstag in der Agentur für Arbeit Düsseldorf\, Grafenberger Allee 300 22.06.2023\, 17 bis 18:45 Uhr\, Wege nach der Schule – was tun? Infoveranstaltung in der Agentur für Arbeit Düsseldorf\, Grafenberger Allee 300&nbsp\; 24.06.2023\, 12 bis 16 Uhr\, IHK und Berufsberatung on tour: Ausbildung für dich! in der Innenstadt\, Schadowplatz 1&nbsp\; 28.06.2023\, 12 bis 16 Uhr\, IHK und Berufsberatung on tour: Ausbildung für dich! in der Innenstadt\, Schadowplatz 1&nbsp\; 17.07.2023\, 15 bis 18 Uhr\, Berufsberatung in der Zentralbibliothek\, KonradAdenauer-Platz 1&nbsp\; 03.08.2023\, 10 bis 14 Uhr\, JUMPSTART – dein Sprung in die Ausbildung\, in der Agentur für Arbeit Düsseldorf\, Grafenberger Allee 300&nbsp\; 16.08.2023\, 12 bis 16 Uhr\, IHK und Berufsberatung on tour: Ausbildung für dich! in der Innenstadt\, Schadowstraße 100\, Düsseldorf&nbsp\; 21.08.2023\, 14:45 bis 18 Uhr\, Berufsberatung in der Zentralbibliothek\, Konrad-Adenauer-Platz 1&nbsp\; 07.09.2023\, 10 bis 17:30 Uhr\, Berufsberatung beim Karrieretag Düsseldorf\, Areal Böhler\, Hansaallee 321&nbsp\; 17.09.2023\, 10 bis 16 Uhr\, Berufsberatung auf der Stuzubi Düsseldorf\, Mitsubishi Electric Halle\, Siegburger Straße 15&nbsp\; Tour-Daten im Kreis Mettmann&nbsp\; 22.06.2023\, 14:30 bis 17 Uhr\, Berufsberatung in der Villa B in Velbert\, Höferstr. 37&nbsp\; 27.06.2023\, 15 bis 18 Uhr\, Berufsberatung im Jugendcafé in Erkrath\, Bahnstr. 4&nbsp\; 29.06.2023\, 13:30 bis 16 Uhr\, Berufsberatung im Skatepark Erkrath\, Sedentaler Str. 112&nbsp\; 29.06.2023\, 15:30 bis 18 Uhr\, Berufsberatung im Jugendzentrum im BiLo in Velbert\, Von-Humboldt-Str. 53&nbsp\; 29.06.2023\, 14 bis 16:30 Uhr\, Berufsberatung bei der Jugendberufshilfe Haan\, Alleestr. 6&nbsp\; 04.07.2023\, 9 bis 12 Uhr\, How to – Bewerbungsunterlagen\, in der Agentur für Arbeit\, BiZ&nbsp\; 04.07.2023\, 15 bis 18 Uhr\, Berufsberatung bei der Jugendberufshilfe Mettmann\, Bismarckstraße 39&nbsp\; 05.07.2023\, 12 bis 16 Uhr\, IHK und Berufsberatung on tour: Ausbildung für dich! In der Innenstadt Velbert\, Am Offers – Nähe alte Kirche&nbsp\; 06.07.2023\, 17 bis 19 Uhr\, Berufsberatung im Jugendhaus Kostenberg in Velbert\, Bartelskamp 56&nbsp\; 12.07.2023\, 11 bis 15 Uhr\, Ausbildung4U – Aus den Ferien in die Ausbildung in Velbert\, Kundencenter Jobcenter\, Heiligenhauser Straße 6&nbsp\; 12.07.2023\, 12 bis 16 Uhr\, IHK und Berufsberatung on tour: Ausbildung für dich! In der Innenstadt in Ratingen 19.07.2023\, 11 bis 15 Uhr\, Ausbildung4U – Aus den Ferien in die Ausbildung in Hilden\, Kundencenter Jobcenter\, Hochdahler Straße 14&nbsp\; 19.07.2023\, 12 bis 16 Uhr\, IHK und Berufsberatung on tour: Ausbildung für dich! In der Innenstadt Mettmann&nbsp\; 26.07.2023\, 12 bis 16 Uhr\, IHK und Berufsberatung on tour: Ausbildung für dich! In der Innenstadt Langenfeld&nbsp\; 27.07.2023\, 14 bis 17 Uhr\, Berufsberatung im Jugendzentrum Neviges\, Lessingstr. 12-14&nbsp\; 27.07.2023\, 10 bis 15 Uhr\, Workshop Einstellungstest und Assessment Center in Mettmann\, in der Agentur für Arbeit\, BiZ&nbsp\; 03.08.2023\, 11 bis 15 Uhr\, Ausbildung4U – Aus den Ferien in die Ausbildung in Mettmann\, in der Agentur für Arbeit\, BiZ&nbsp\; 03.08.2023\, 16 bis 18 Uhr\, Berufsberatung im Jugendzentrum Langenberg\, Vogteier Straße 6&nbsp\; 09.08.2023\, 12 bis 16 Uhr\, IHK und Berufsberatung on tour: Ausbildung für dich! In der Innenstadt Velbert\, Am Offers – Nähe alte Kirche&nbsp\; Persönliche individuelle Beratung für Jugendliche und Arbeitgeber&nbsp\; Berufs- und Studienberatung: 0800-4 55 55 00&nbsp\; Weitere Infos rund um Ausbildungssuche\, Berufswahl und Online Angebote der Berufsberatung: www.arbeitsagentur.de/bildung  Link zur Veranstaltung: https://youpod.de/youevent/berufsberatung-in-innenstadt-und-jugendtreffs/
LOCATION:Grafenberger Allee 300\, 40237 Düsseldorf
END:VEVENT
END:VCALENDAR
