BEGIN:VCALENDAR
VERSION:2.0
PRODID:-//youpod//EN
BEGIN:VEVENT
UID:69e773e0a7856@youpod
DTSTAMP:20260421T125600Z
DTSTART:20260313T180000
DTEND:20260313T190000
SUMMARY:Hallenfußball mit dem Franklinclub
DESCRIPTION:Hallenfußball kannst du mit dem Franklinclub ohne Anmeldung jeden Freitag und Samstag spielen. Wer teilnehmen möchte\, kann dem Club gerne schreiben. Es gibt eine Whatsapp-Gruppe\, zu der du hinzugefügt werden kannst. Dort werden Infos (z. B. Ausfall) geteilt. Freitags: 18 bis 19 Uhr (für alle bis 14 Jahren) 19 bis 22 Uhr (für alle ab 15 Jahren) Samstags: 16 bis 18 Uhr (für alle ab 8 Jahren) Ort: in der Halle des Schulgeländes\, Franklinstraße 5\, 40479 Düsseldorf  Link zur Veranstaltung: https://youpod.de/youevent/hallenfussball-mit-dem-franklinclub/
LOCATION:Franklinstraße 5\, 40479 Düsseldorf
END:VEVENT
END:VCALENDAR
