BEGIN:VCALENDAR
VERSION:2.0
PRODID:-//youpod//EN
BEGIN:VEVENT
UID:69e690b6563c7@youpod
DTSTAMP:20260420T204646Z
DTSTART:20201218T180000
DTEND:20201218T190000
SUMMARY:Bandprofessionalisierung 2021 (Bewerbungsfrist)
DESCRIPTION:Für junge Musiker*innen und Bands\, die sich professionalisieren möchten  Zwei Bands bekommen die Möglichkeit unter fachkundiger Betreuung und mit städtischer Unterstützung\, Projekte im Wert von 5.000 Euro pro Band umzusetzen. Dies können zum Beispiel CD-Produktionen oder Drehs von Musikvideos sein. Zudem wird ein besonderer Fokus auf dem Coaching der Bands liegen.  Ein Expertengremium bestehend aus Klaus Klöppel (Spektakulum/Junge Aktionsbühne)\, Miguel Passarge (zakk)\, Ina Schulz (u. a. Unique Records)\, Dieter Falk (Erfolgsproduzent)\, Tobias Rösgen (Popkultur in Düsseldorf e. V.)\, Christian Elze (Spektakulum) und Christin Schulz (Don Records) wählt die Gewinner aus. Für alle Kriterien zur Bewerbung schaut hier vorbei. Bewerbungsfrist ist der 18. Dezember.  Ein Projekt des Kulturamts der Landeshauptstadt Düsseldorf.  Link zur Veranstaltung: https://youpod.de/youevent/bandprofessionalisierung-2021-bewerbungsfrist/
END:VEVENT
END:VCALENDAR
