BEGIN:VCALENDAR
VERSION:2.0
PRODID:-//youpod//EN
BEGIN:VEVENT
UID:69e91ba8a0e7d@youpod
DTSTAMP:20260422T190408Z
DTSTART:20251109T130000
DTEND:20251109T140000
SUMMARY:30 Jahre Freizeitbad Düsselstrand: Überraschungen\, Sauna\, Splash Night\, Party
DESCRIPTION:Der Düsselstrand wird 30 – und das feiert das Schwimmbad eine Woche lang. 1. bis 8. November: tägliche Geburtstagsüberraschung Vom 1. bis 8. November gibt es für Besucher*innen kleine Aktionen und Überraschungen an der Kasse. Kinder\, die selbst gemalte Bilder mit einem Geburtstagskuchen an der Kasse abgeben\, erhalten Freikarten für einen Tag am Geburtstagswochenende. 8. November: Sauna ohne Ende und Splash Night Bei der Splash Night feiert ihr von 20 bis 1 Uhr bei cooler DJ-Musik\, Lichteffekten und großen aufblasbaren Schwimmtieren. Entspannung deluxe bietet die „Sauna ohne Ende“ von 20 bis 1 Uhr. Event-Aufgüsse\, kleine Verwöhnmomente und viele Überraschungen warten in der weitläufigen Saunalandschaft. 9. November: Große Geburtstagsfeier mit Animationsteam von Zephyrus Am Sonntag steigt von 13 bis 17 Uhr die große Familienparty – mit interaktiven Aktionen\, kreativen Mitmachstationen und Unterhaltung im gesamten Freizeitbad. Tipp: Wer online bucht\, sichert sich bei geringer Auslastung nicht nur ein günstigeres Ticket\, sondern auch einen garantierten und schnellen Einlass!  Link zur Veranstaltung: https://youpod.de/youevent/30-jahre-freizeitbad-duesselstrand-ueberraschungen-sauna-splash-night-party/
LOCATION:Kettwiger Straße 50 \, 40233 Düsseldorf
END:VEVENT
END:VCALENDAR
