BEGIN:VCALENDAR
VERSION:2.0
PRODID:-//youpod//EN
BEGIN:VEVENT
UID:69e738d03a3a8@youpod
DTSTAMP:20260421T084400Z
DTSTART:20260213T150000
DTEND:20260213T160000
SUMMARY:Werk:Klub im K21 &#8211\; Kunst machen statt nur anschauen
DESCRIPTION:Du willst Kunst nicht nur anschauen\, sondern selbst aktiv werden? Inspiriert von Kunstwerken K21 öffnet das K21 von 15 bis 18 Uhr einen kreativen Raum für dich – zum Austauschen\, Ausprobieren und künstlerischen Gestalten. Folge deinen kreativen Impulsen\, treffe Künstler*innen und blicke hinter die Kulissen. Für alle zwischen 16 und 26 Jahren. Mit Künstler*in Markus Henschler und Jacqueline Est\, wissenschaftliche Volontärin der Abteilung Bildung Die Teilnahme ist kostenlos\, eine Anmeldung aber erforderlich unter 0211-83 81 204 oder service@kunstsammlung.de .  Link zur Veranstaltung: https://youpod.de/youevent/werkklub-im-k21-kunst-machen-statt-nur-anschauen/
LOCATION:Ständehausstraße 1\, 40217 Düsseldorf
END:VEVENT
END:VCALENDAR
