BEGIN:VCALENDAR
VERSION:2.0
PRODID:-//youpod//EN
BEGIN:VEVENT
UID:69e75509b64cf@youpod
DTSTAMP:20260421T104425Z
DTSTART:20251115T100000
DTEND:20251115T110000
SUMMARY:Spielclub: Loud and Proud
DESCRIPTION:Du suchst einen Ort\, an dem du dich kreativ austoben kannst\, Queers und Allys triffst? Dann komm zu Loud and Proud! Hier kannst du sein\, wie du bist und mit künstlerischen Mitteln herausfinden\, wer du noch sein kannst. Gemeinsam probieren wir uns im Tanzen\, Singen\, Performen und weiteren Kunstformen. Wir wollen über Themen sprechen\, die uns beschäftigen und für die wir brennen. Was wir daraus machen\, entscheiden wir gemeinsam: Ob Techno-Oper\, Queer-Fashionwalk oder eine performative Demonstration – unter uns oder öffentlich. Alles ist möglich! Wir bieten zwei gemeinsame Treffen zum Auftakt\, in denen wir uns erstmal kennenlernen und eine Vision entwickeln. Samstag\, der 8.11. und 25.11.\, jeweils 10:00-15:00 (mit gemeinsamen Mittagessen) Ort: 8.11. im Balletthaus in Bilk (Merowingerstraße 88\, 40225 Düsseldorf) 15.11. im FFT Düsseldorf (Konrad-Adenauer-Platz 1\, 40210 Düsseldorf) Ihr seid zu einem oder beiden Treffen herzlich eingeladen. Ab Januar proben wir alle zwei Wochen. Auch hier kann man noch einsteigen! Wir freuen uns über eure Anmeldung per Mail oder spontanes Kommen! Mehr zur Veranstaltung findest du auch hier Die Deutsche Oper am Rhein in Kooperation mit FFT  Link zur Veranstaltung: https://youpod.de/youevent/loud-and-proud/
LOCATION:Konrad-Adenauer-Platz 1 \, 40210 Düsseldorf
END:VEVENT
END:VCALENDAR
