BEGIN:VCALENDAR
VERSION:2.0
PRODID:-//youpod//EN
BEGIN:VEVENT
UID:69ea33121d1f9@youpod
DTSTAMP:20260423T145618Z
DTSTART:20260423T163000
DTEND:20260423T173000
SUMMARY:Gaming-Nachmittag in Oberkassel
DESCRIPTION:Gemeinsames Zocken an Switch\, Tablet und Co. Erfahrt beim Gaming-Talk spannende Themen rund um die Medienwelt. Im Anschluss können ausgewählte Games angespielt werden! Für Kinder von 6 bis 15 Jahren\, der Eintritt ist frei\, eine Anmeldung ist erforderlich: Telefon 0211-89 94 108\, E-Mail stboberkassel@duesseldorf.de. &nbsp\;  Link zur Veranstaltung: https://youpod.de/youevent/gaming-nachmittag-in-oberkassel/
LOCATION:Luegallee 65\, 40545 Düsseldorf
END:VEVENT
END:VCALENDAR
