BEGIN:VCALENDAR
VERSION:2.0
PRODID:-//youpod//EN
BEGIN:VEVENT
UID:69e73bda6357a@youpod
DTSTAMP:20260421T085658Z
DTSTART:20260221T150000
DTEND:20260221T160000
SUMMARY:Workshop für Erwachsene: Eat a Vulva
DESCRIPTION:Lust auf Cupcakes? Wir formen\, backen und verzieren Vulven – aus Teig\, Zuckerguss und ganz viel Kreativität! Dabei geht es nicht nur ums Backen\, sondern auch um Vielfalt\, Körperpositivität und den spielerischen Umgang mit gesellschaftlichen Tabus. Gemeinsam nähern wir uns der Herstellung von (Vulva-)Cupcakes an: Du lernst dabei\, wie du individuell mit Fondant dekorierst. Der Fokus liegt zwar auf Vulven – Penis\, Klitoris\, Boobs\, Bottom Growth\, &#8230\; sind genauso möglich. Die Muffins &amp\; Cremes sind bereits vorbereitet und können mit deiner selbst hergestellten Deko zusammengebracht werden. So kreierst du vier ganz persönliche Cupcakes zum direkten Essen oder Mitnehmen (Transportbox inkl.) und kommst dabei auch ins Gespräch über Sexualität\, Körper\, Scham\, Geschlechtsidentität und Lust. Die Veranstaltung ist geöffnet für Menschen aller Geschlechtsidentitäten und sexuellen Orientierungen. Alle Zutaten sind vegan. Die Ausstellung SEX NOW ist nur für Besucher*innen ab 18 Jahren zugänglich. Sie zeigt künstlerische Arbeiten mit expliziten sexuellen Inhalten. Dauer: drei Stunden Preis: 29 Euro  Link zur Veranstaltung: https://youpod.de/youevent/workshop-fuer-erwachsene-eat-a-vulva/
LOCATION:Ehrenhof 2\, 40479 Düsseldorf
END:VEVENT
END:VCALENDAR
