BEGIN:VCALENDAR
VERSION:2.0
PRODID:-//youpod//EN
BEGIN:VEVENT
UID:69e4d3c48473d@youpod
DTSTAMP:20260419T130820Z
DTSTART:20260213T140000
DTEND:20260213T150000
SUMMARY:Karnevalsparty im Theoclub
DESCRIPTION:Kinder und Familien feiern am Freitag\, 13. Februar\, 14 bis 18 Uhr\, bei der Karnevalsparty im Theoclub. Euch erwarten Spiele\, Musik und Spaß\, Getränke\, Snacks und Waffeln. +++ Unser Special zu Karneval in Düsseldorf findest du hier. +++  Link zur Veranstaltung: https://youpod.de/youevent/karnevalsparty-im-theoclub/
LOCATION:Theodorstraße 334\, 40472 Düsseldorf
END:VEVENT
END:VCALENDAR
