BEGIN:VCALENDAR
VERSION:2.0
PRODID:-//youpod//EN
BEGIN:VEVENT
UID:69e780adc45d6@youpod
DTSTAMP:20260421T135037Z
DTSTART:20260217T153921
DTEND:20260217T163921
SUMMARY:Maulheld*innen 2026
DESCRIPTION:2026 feiert Maulheld*innen\, das Landes-Schultheater- Treffen NRW\, sein 20-jähriges Jubiläum in Düsseldorf! Das FFT\, das Goethe-Gymnasium und das Junge Schauspiel laden zu fünf sommerlichen Festivaltagen voller Begegnungen\, Austausch und Theater ein. Für die eingeladenen Schultheatergruppen steht neben dem Präsentieren der eigenen Stücke das gemeinsame Theatermachen im Mittelpunkt: Vielfältige Workshops mit Künstler*innen\, ein kreatives Rahmenprogramm und eine große Abschlussparty runden das Festival ab. Mo 29.6.2026 – Fr 3.7.2026 Mehr Infos: https://www.fft-duesseldorf.de/spielplan/maulheldinnen-2026 Bis zum 27. März können sich interessierte Schultheatergruppen aller Altersstufen und Schulformen bewerben. Egal\, ob mit viel oder wenig Bühnenerfahrung! Hier geht es zur Bewerbung  Link zur Veranstaltung: https://youpod.de/youevent/maulheldinnen-2026/
LOCATION:Konrad-Adenauer-Platz 1 \, 40210 Düsseldorf
END:VEVENT
END:VCALENDAR
