BEGIN:VCALENDAR
VERSION:2.0
PRODID:-//youpod//EN
BEGIN:VEVENT
UID:69e6576495d6a@youpod
DTSTAMP:20260420T164212Z
DTSTART:20260621T090100
DTEND:20260621T100100
SUMMARY:Bankstraßenfest für die Nachbarschaft
DESCRIPTION:Am 21. Juni kommt die Nachbarschaft der Bankstraße zusammen und feiert. Tanzen\, Trödel\, Treffen stehen auf dem Programm. Das Straßenfest beginnt ab 9 Uhr mit dem Trödel in den Parkbuchten. Tagsüber kommt der Sportactionbus. Ab 17 Uhr gibt es Essen und Trinken auf der Straße. Mitmachen kannst du als Nachbar*in\, wenn du Kontakt über www.instagram.com/bankstrasse/ aufnimmst.  Link zur Veranstaltung: https://youpod.de/youevent/bankstrassenfest-fuer-die-nachbarschaft/
LOCATION:Bankstraße\, 40476 Düsseldorf
END:VEVENT
END:VCALENDAR
