BEGIN:VCALENDAR
VERSION:2.0
PRODID:-//youpod//EN
BEGIN:VEVENT
UID:69e7974c2f956@youpod
DTSTAMP:20260421T152708Z
DTSTART:20260423T180000
DTEND:20260423T190000
SUMMARY:KI in der Jugendarbeit
DESCRIPTION:Künstliche Intelligenz ist längst Teil des Alltags junger Menschen – von Chatbots über KI-generierte Bilder bis hin zu automatisierten Empfehlungen auf Social Media. Doch was steckt eigentlich dahinter und welche Bedeutung hat KI für die Arbeit mit Jugendlichen?  In diesem Seminar werden Grundlagen und aktuelle Entwicklungen im Bereich Künstliche Intelligenz verständlich erklärt. Im Mittelpunkt stehen praxisnahe Beispiele und Einsatzmöglichkeiten für euch in der Jugendarbeit – von kreativen KI-Tools über Diskussionsanlässe bis hin zu Fragen von Ethik\, Datenschutz und Medienkritik. Zeit &amp\; Ort: Donnerstag\, 23. April\, 18 bis 21 Uhr. ejd-Campus\, Kruppstraße 9 &#8211\; 15\, 40227\, Düsseldorf. Teilnahme: Kostenlos Anmeldung: Bis zum 17. April online unter www.jugend-ehrenamt.evdus.de Veranstalter: evangelische jugend düsseldorf  Link zur Veranstaltung: https://youpod.de/youevent/ki-in-der-jugendarbeit/
LOCATION:ejd-Campus\, Kruppstraße 9 - 15\, 40227\, Düsseldorf
END:VEVENT
END:VCALENDAR
