BEGIN:VCALENDAR
VERSION:2.0
PRODID:-//youpod//EN
BEGIN:VEVENT
UID:69e789f70dbd2@youpod
DTSTAMP:20260421T143015Z
DTSTART:20260428T180000
DTEND:20260428T190000
SUMMARY:Frische\, simple Küche
DESCRIPTION:Schnell\, lecker\, unkompliziert! In Gruppenstunden\, bei Aktionstagen und generell im Ehrenamt bleibt oft wenig Zeit fürs Kochen – gutes Essen muss nicht aufwendig sein und schnelles Kochen und Frische schließen sich nicht aus. Deshalb zeigen wir in diesem Workshop\, wie einfache Gerichte im Handumdrehen gelingen. Dazu werden wir gemeinsam kochen und essen\, in den Austausch kommen und neue Rezeptideen für die Praxis mitnehmen. Zeit &amp\; Ort: Dienstag\, 28. April\, 18 bis 21 Uhr. ejuzo – Ev. Jugendzentrum in Oberbilk\, Ellerstraße 215\, 40227\, Düsseldorf. Teilnahme: Kostenlos Anmeldung: Bis zum 20. April online unter www.jugend-ehrenamt.evdus.de Veranstalter: evangelische jugend düsseldorf\,  Link zur Veranstaltung: https://youpod.de/youevent/frische-simple-kueche/
LOCATION:Ellerstraße 215\, 40227 Düsseldorf
END:VEVENT
END:VCALENDAR
