BEGIN:VCALENDAR
VERSION:2.0
PRODID:-//youpod//EN
BEGIN:VEVENT
UID:69e77ffce0ebb@youpod
DTSTAMP:20260421T134740Z
DTSTART:20260624T000000
DTEND:20260624T010000
SUMMARY:Auf nach Berlin: Politik erleben
DESCRIPTION:Du hast Lust\, das politische Berlin zu entdecken? Wir besuchen zusammen den Deutschen Bundestag. Dort treffen wir die Düsseldorfer Abgeordnete Lizzy Schubert (Die Linke) und sprechen über die Arbeit des Parlaments und ihren politischen Alltag. Du kannst so einen Blick hinter die Kulissen des Bundestags werfen und Fragen direkt an eine Abgeordnete stellen. Außerdem erkunden wir gemeinsam die Hauptstadt\, zum Beispiel bei einem Stadtrundgang oder beim Besuch von Ausstellungen oder Gedenkstätten. Die Fahrt wird organisiert und finanziert durch das Bundespresseamt und erfolgt auf Einladung von Lizzy Schubert. Im Preis sind Unterkunft\, Verpflegung\, Bahntickets und Eintritte enthalten. Bei Fragen meldet euch bei Mona: mona.moentmann@jugendring-duesseldorf.de Zeit &amp\; Ort: Mittwoch\, 24. Juni bis Samstag\, 27. Juni. Berlin. Teilnahme: Teilnahme ab 16 Jahren\, 50 Euro Teilnahmegebühr Anmeldung: Bald möglich unter jugendring-duesseldorf.de/termin/berlin26 Veranstalter: Jugendring Düsseldorf  Link zur Veranstaltung: https://youpod.de/youevent/auf-nach-berlin-politik-erleben/
LOCATION:Berlin
END:VEVENT
END:VCALENDAR
