BEGIN:VCALENDAR
VERSION:2.0
PRODID:-//youpod//EN
BEGIN:VEVENT
UID:69e7644aad606@youpod
DTSTAMP:20260421T114930Z
DTSTART:20260602T180000
DTEND:20260602T190000
SUMMARY:Spiel mit! – Kooperations- und Gruppenspiele
DESCRIPTION:Gemeinsam spielen – gemeinsam wachsen! In diesem Workshop entdecken wir vielfältige Kooperations- und Gruppenspiele\, die Teamgeist fördern\, Vertrauen stärken und einfach Spaß machen. Wir probieren Spiele praktisch aus\, reflektieren ihren Einsatz in Gruppen und sammeln Ideen für unterschiedliche Altersgruppen und Settings im Ehrenamt. Ob für Gruppenstunden\, Freizeiten oder spontane Aktionen: Am Ende nimmst du einen prall gefüllten Methodenkoffer mit Spielen mit\, die Verbindung schaffen und Bewegung in jede Gruppe bringen. Zeit &amp\; Ort: Donnerstag\, 2. Juli\, 18 bis 21 Uhr Haus der Jugend\, Lacombletstr. 10\, 40239 Düsseldorf Teilnahme: Kostenlos Anmeldung: jugendring-duesseldorf.de/termin/spiel-mit Veranstalter: Jugendring Düsseldorf  Link zur Veranstaltung: https://youpod.de/youevent/spiel-mit-kooperations-und-gruppenspiele/
LOCATION:Lacombletstraße 10\, 40239 Düsseldorf
END:VEVENT
END:VCALENDAR
