BEGIN:VCALENDAR
VERSION:2.0
PRODID:-//youpod//EN
BEGIN:VEVENT
UID:69e78fadc897a@youpod
DTSTAMP:20260421T145437Z
DTSTART:20260428T183000
DTEND:20260428T193000
SUMMARY:&#8220\;[…] Was wird aus uns werden.&#8221\; – Queere Menschen in Düsseldorf zwischen 1933 bis 1945
DESCRIPTION:Wie war es\, als queere Person im nationalsozialistischen Düsseldorf zu leben? Ein Großteil unseres Wissens basiert auf der Täterperspektive. Das hat sich in den letzten Jahren ein Stück weit gewandelt. Intensive Recherche von Historiker*innen hat gezeigt\, dass es mehr zu erzählen gibt und Geschichten\, trotz gesellschaftlicher Stigmatisierung\, in Familien bewahrt wurden. Astrid Hirsch-von Borries ist wissenschaftliche Mitarbeiterin der Mahn- und Gedenkstätte\, ihre Forschungsschwerpunkte sind Frauengeschichte und queere Geschichte. Sie hat den Düsseldorfer Teil &#8220\;Queeres Leben in Düsseldorf. Von den Goldenen Zwanzigern bis 1945&#8221\; kuratiert und gibt in ihrem Vortrag am Dienstag\, 28. April\, um 18.30 Uhr\, im Beatrice-Strauss-Zentrum einen tieferen Einblick in Lebensrealitäten der Personen\, deren Biographien in der Ausstellung erzählt werden Teilnahme kostenlos\, Anmeldung nicht nötig\, Zutritt barrierefrei  Link zur Veranstaltung: https://youpod.de/youevent/was-wird-aus-uns-werden-queere-menschen-in-duesseldorf-zwischen-1933-bis-1945/
LOCATION:Marktstraße 2\, 40213 Düsseldorf
END:VEVENT
END:VCALENDAR
